BEGIN:VCALENDAR
VERSION:2.0
PRODID:-//Maranatha Camp - ECPv6.15.20//NONSGML v1.0//EN
CALSCALE:GREGORIAN
METHOD:PUBLISH
X-ORIGINAL-URL:https://maranathacamp.org
X-WR-CALDESC:Events for Maranatha Camp
REFRESH-INTERVAL;VALUE=DURATION:PT1H
X-Robots-Tag:noindex
X-PUBLISHED-TTL:PT1H
BEGIN:VTIMEZONE
TZID:America/Chicago
BEGIN:DAYLIGHT
TZOFFSETFROM:-0600
TZOFFSETTO:-0500
TZNAME:CDT
DTSTART:20210314T080000
END:DAYLIGHT
BEGIN:STANDARD
TZOFFSETFROM:-0500
TZOFFSETTO:-0600
TZNAME:CST
DTSTART:20211107T070000
END:STANDARD
BEGIN:DAYLIGHT
TZOFFSETFROM:-0600
TZOFFSETTO:-0500
TZNAME:CDT
DTSTART:20220313T080000
END:DAYLIGHT
BEGIN:STANDARD
TZOFFSETFROM:-0500
TZOFFSETTO:-0600
TZNAME:CST
DTSTART:20221106T070000
END:STANDARD
BEGIN:DAYLIGHT
TZOFFSETFROM:-0600
TZOFFSETTO:-0500
TZNAME:CDT
DTSTART:20230312T080000
END:DAYLIGHT
BEGIN:STANDARD
TZOFFSETFROM:-0500
TZOFFSETTO:-0600
TZNAME:CST
DTSTART:20231105T070000
END:STANDARD
END:VTIMEZONE
BEGIN:VEVENT
DTSTART;TZID=America/Chicago:20220218T160000
DTEND;TZID=America/Chicago:20220220T130000
DTSTAMP:20260421T115201
CREATED:20211119T193717Z
LAST-MODIFIED:20230923T153218Z
UID:1127-1645200000-1645362000@maranathacamp.org
SUMMARY:Student Winter Retreat 2022
DESCRIPTION:BEST WEEKEND OF YOUR WINTER…\n\n\n\n\nPowerful teaching\, new memories\, exciting activities\, and impactful worship all in one weekend. \n\n\n			\n			\n				\n				\n				\n				\n				\n			\n				\n				\n				\n				\n			\n				\n				\n				\n				\n				\n				\n				\n				\n				\n				\n				Our Speaker & Musician: Jeff Polen\n			\n			\n				\n				\n				\n				\n				\n				\n				\n				\n				\n				\n			\n			\n				\n				\n				\n				\n			\n				\n				\n				\n				\n				\n				\n				\n				\n				\n				\n				Jeff began his journey with Jesus at the age of 21 after he was radically saved from a life of alcoholism and vain pursuit of fame through country music.  \nJeff and Jodi were married in 2003 and surrendered their lives completely to Christ\, becoming missionaries for Youth With A Mission (YWAM) and serving overseas in the nations of Turkey and Egypt. \nIn 2006 Jeff accepted a position of Youth Pastor and Music Director at a church in Ohio\, where he served faithfully for nearly a decade\, equipping and challenging the students and congregation to reach their world with the GOSPEL. \nJeff and Jodi now focus full-time on the Jeff Polen Music ministry\, a ministry dedicated to pointing others to Jesus Christ through music\, preaching\, teaching\, and training. \nJeff and Jodi have five wonderful children: Taylor\, Abigail\, Piper\, Elijah\, and Eden. \nJeff Polen Music \n \n			\n			\n				\n				\n				\n				\n			\n				\n				\n				\n				\n				\n				\n				\n				\n				\n				\n				\n			\n				\n				\n				\n				\n				Register For Winter RetreatWinter Youth Retreat is for all middle and high school students. The price per person includes lodging\, meals\, and the winter camp program for only $119! \n				Register Now\n			\n				\n				\n				\n				\n				Program Staff and Volunteers can register here. If you have a student attending\, they need to be registered seperately using the button above. \n			\n				A Packing List\n			\n			\n				\n				\n				\n				\n			\n				\n				\n				\n				\n				\n				\n				\n				\n				\n				\n				Schedule\nThis schedule is subject to change. Guests please plan on referring to the printed copes available at the event. \n  \n			\n			\n				\n				\n				\n				\n			\n				\n				\n				\n				\n				\n				\n				\n				\n				\n				\n				Friday\n\n4pm Check-in\n6pm Supper\n6:45pm Session 1\n\nTheme Night Costume Judging: Pirates\nWorship & Speaker\n\n\n8:30pm Church/Cabin Time\n9:30pm Activities\n11:30pm Return to rooms\nMidnight Lights out\n\n			\n			\n				\n				\n				\n				\n				\n				\n				\n				\n				\n				Saturday\n\n7:45am Coffee Shop\n8:00am Breakfast\n9:00am Session 2\n10:30am Church/Cabin Time\n11:30am Personal Devos\n12pm Coffee Shop & Lunch\n1pm Activities\, Games\, and Free Time\n6pm Supper\n6:45pm Session 3\n\nTheme Night Costume Judging: Fandom\nWorship & Speaker\n\n\n8:15pm Church/Cabin Time\n9pm Games\n11:30pm Return to rooms\nMidnight Lights out\n\n \n			\n			\n				\n				\n				\n				\n				\n				\n				\n				\n				\n				Sunday\n\n7:45am Coffee Shop\n8:00am Breakfast\n9:00am Session 4\n10:30am Church/Cabin Time\n11:30am Team Winner Announcement\n12pm Lunch & Coffee Shop\n1pm Depart
URL:https://maranathacamp.org/events/winter-retreat-2022/
LOCATION:Maranatha Bible Camp\, 16800 E Maranatha Rd\, Maxwell\, NE\, 69151\, United States
CATEGORIES:Camps & Retreats,Kids & Families
ATTACH;FMTTYPE=image/jpeg:https://maranathacamp.org/wp-content/uploads/2021/11/2022-student-winter-retreat-temp-cover.jpg
END:VEVENT
END:VCALENDAR