BEGIN:VCALENDAR
VERSION:2.0
PRODID:-//Maranatha Camp - ECPv6.15.20//NONSGML v1.0//EN
CALSCALE:GREGORIAN
METHOD:PUBLISH
X-ORIGINAL-URL:https://maranathacamp.org
X-WR-CALDESC:Events for Maranatha Camp
REFRESH-INTERVAL;VALUE=DURATION:PT1H
X-Robots-Tag:noindex
X-PUBLISHED-TTL:PT1H
BEGIN:VTIMEZONE
TZID:America/Chicago
BEGIN:DAYLIGHT
TZOFFSETFROM:-0600
TZOFFSETTO:-0500
TZNAME:CDT
DTSTART:20210314T080000
END:DAYLIGHT
BEGIN:STANDARD
TZOFFSETFROM:-0500
TZOFFSETTO:-0600
TZNAME:CST
DTSTART:20211107T070000
END:STANDARD
BEGIN:DAYLIGHT
TZOFFSETFROM:-0600
TZOFFSETTO:-0500
TZNAME:CDT
DTSTART:20220313T080000
END:DAYLIGHT
BEGIN:STANDARD
TZOFFSETFROM:-0500
TZOFFSETTO:-0600
TZNAME:CST
DTSTART:20221106T070000
END:STANDARD
BEGIN:DAYLIGHT
TZOFFSETFROM:-0600
TZOFFSETTO:-0500
TZNAME:CDT
DTSTART:20230312T080000
END:DAYLIGHT
BEGIN:STANDARD
TZOFFSETFROM:-0500
TZOFFSETTO:-0600
TZNAME:CST
DTSTART:20231105T070000
END:STANDARD
END:VTIMEZONE
BEGIN:VEVENT
DTSTART;TZID=America/Chicago:20220422T160000
DTEND;TZID=America/Chicago:20220424T130000
DTSTAMP:20260424T135657
CREATED:20211120T024926Z
LAST-MODIFIED:20230126T190652Z
UID:1154-1650643200-1650805200@maranathacamp.org
SUMMARY:Dad and Kids Retreat
DESCRIPTION:Theme: 180 Family\nLuke 1:17 – And he will go on before the Lord\, in the spirit and power of Elijah\, to turn the hearts of the parents to their children and the disobedient to the wisdom of the righteous—to make ready a people prepared for the Lord. \n			\n			\n				\n				\n				\n				\n			\n				\n				\n			\n				\n				\n				\n				\n				\n				\n				\n				\n				\n				\n				\n				\n				\n				\n				\n				\n				\n				\n			\n			\n				\n				\n				\n				\n				\n				\n				\n				\n				\n				OUR FATHER CHILD WEEKEND IS A GREAT CHANCE FOR DADS TO SPEND TIME WITH THEIR KIDS.\nThe weekend is jam-packed with fun activities\, work projects\, and worship. \nQuality time is so important for dads and kids. Just imagine the bonding that’s possible when you and your kids are removed from the fast-paced and distracting rhythm of everyday life. You’ll not only deepen your connection with each other\, you’ll grow closer to God. Come spend the weekend with us and create memories that will last a lifetime! \n			\n				\n				\n				\n				\n				\n			\n			\n				\n				\n				\n				\n			\n				\n				\n			\n				\n				\n				\n				\n				\n				\n				\n				\n				\n				\n				\n				\n				\n				\n				\n				\n				\n				Speaker: Tree Cooper\n  \nI am Tree Cooper and I have been the lead pastor here at Cornerstone since February 2017.  Wow!  I love these people.  I have been married to the girl of my dreams\, Robbin\, since 2006.  We have three kids that have been trying to train us since day one:  Anna is 12\, Joshua is 10\, and Daniel is 7.  I love telling people about the God that loves us. \n			\n			\n				\n				\n				\n				\n				\n				\n				\n				\n				\n				\n			\n			\n				\n				\n				\n				\n			\n				\n				\n			\n				\n				\n				\n				\n				\n				\n				\n				\n				\n				\n				\n				\n				\n				\n				\n				\n				\n				Register for Dad and Kids' RetreatRates are $50 per person\, plus lodging ($30 for Tent/RV or $100 for Motel-Style). \n				Register Now\n			\n				\n				\n				\n				\n				Click here for Event Staff Registration \n			\n			\n				\n				\n				\n				\n			\n				\n				\n			\n				\n				\n				\n				\n				\n				\n				\n				\n				\n				\n				\n				\n				\n				\n				\n				\n				\n				Schedule – updated 4/21/2022\nHost – Brandon Thomas 970-779-0874This whole weekend NO lifeguard on duty: Wear life jackets if in/on the water!Bouncy houses are parent supervisedFire Ban – No fires allowed \n \n \n			\n			\n				\n				\n				\n				\n			\n				\n				\n				\n				\n				\n				\n				\n				\n				\n				\n				Friday\n4-7 PM Check in @ Parking lot \nFree time: Mini golf\, frisbee golf(dics are in the entry of the dining hall)\, hiking\, kayaking\, canoeing\, outdoor volleyball and basketball\, indoor basketball\, board games in fireside room\, fishing poles by boat shed (please return by Sunday) \n8-9:30 PM Late Night Session 1 in the Fireside Room/S’mores indoors \n			\n			\n				\n				\n				\n				\n				\n				\n				\n				\n				\n				Saturday\n8:00 AM Breakfast @ Dining Hall (coffee/gift shop open)9:15 AM Session 2 in Fireside Room10:00-12:00 Free Time10:00-11:00 AM Zipline (Unless it is too windy)12:00-1:00 PM Lunch @ the Dining Hall (coffee/gift shop open)1:00-5:30 PM Free time (see activities below)1:00-5:30 PM Bouncy Houses (Parents supervise) and Games in the Center1:00-2:00 PM Rock Wall and Skating in the Gym2:00-3:00 PM Craft Project in Dining Hall (Free for everyone)3:00-4:00 PM Archery Range/BB Guns5:30 PM Dinner @ Dining HallFree time 8:30 PM Session 3 Fireside Room/S’mores indoors \n			\n			\n				\n				\n				\n				\n				\n				\n				\n				\n				\n				Sunday\n8:30 AM Breakfast @ the Dining Hall\n9:00 AM Hike to the Outpost \n10:00 AM Church in the wild\n11:00 AM Free time/Gift shop open (11-12)/Grab and Go lunch @ Dining Hall\n12:00 Retreat concludes
URL:https://maranathacamp.org/events/dad-and-kids-retreat-2022/
LOCATION:Maranatha Bible Camp\, 16800 E Maranatha Rd\, Maxwell\, NE\, 69151\, United States
CATEGORIES:Camps & Retreats,Kids & Families
ATTACH;FMTTYPE=image/jpeg:https://maranathacamp.org/wp-content/uploads/2022/01/dad-and-kids-at-fishing-and-zipline.jpg
END:VEVENT
END:VCALENDAR