BEGIN:VCALENDAR
VERSION:2.0
PRODID:-//Maranatha Camp - ECPv6.15.20//NONSGML v1.0//EN
CALSCALE:GREGORIAN
METHOD:PUBLISH
X-WR-CALNAME:Maranatha Camp
X-ORIGINAL-URL:https://maranathacamp.org
X-WR-CALDESC:Events for Maranatha Camp
REFRESH-INTERVAL;VALUE=DURATION:PT1H
X-Robots-Tag:noindex
X-PUBLISHED-TTL:PT1H
BEGIN:VTIMEZONE
TZID:America/Chicago
BEGIN:DAYLIGHT
TZOFFSETFROM:-0600
TZOFFSETTO:-0500
TZNAME:CDT
DTSTART:20210314T080000
END:DAYLIGHT
BEGIN:STANDARD
TZOFFSETFROM:-0500
TZOFFSETTO:-0600
TZNAME:CST
DTSTART:20211107T070000
END:STANDARD
BEGIN:DAYLIGHT
TZOFFSETFROM:-0600
TZOFFSETTO:-0500
TZNAME:CDT
DTSTART:20220313T080000
END:DAYLIGHT
BEGIN:STANDARD
TZOFFSETFROM:-0500
TZOFFSETTO:-0600
TZNAME:CST
DTSTART:20221106T070000
END:STANDARD
BEGIN:DAYLIGHT
TZOFFSETFROM:-0600
TZOFFSETTO:-0500
TZNAME:CDT
DTSTART:20230312T080000
END:DAYLIGHT
BEGIN:STANDARD
TZOFFSETFROM:-0500
TZOFFSETTO:-0600
TZNAME:CST
DTSTART:20231105T070000
END:STANDARD
END:VTIMEZONE
BEGIN:VEVENT
DTSTART;TZID=America/Chicago:20220627T130000
DTEND;TZID=America/Chicago:20220701T130000
DTSTAMP:20260422T102117
CREATED:20211210T035425Z
LAST-MODIFIED:20231024T142251Z
UID:1329-1656334800-1656680400@maranathacamp.org
SUMMARY:Junior Camp 2022
DESCRIPTION:Early-Bird Special EXTENDED! Register by April 15th for 10% Off Summer 2022 Youth Camps \n			\n			\n				\n				\n				\n				\n			\n				\n				\n			\n				\n				\n				\n				\n				\n				\n				\n				\n				\n				\n				\n				\n				\n				\n				\n				\n				\n				Register for Junior CampPrice is $340 per camper for all days and nights\, or $50/day (no overnight) \nNote: Check-in is from 1-3pm \n				Registration is Closed\n			\n				\n				\n				\n				\n				(View Scholarship Info & FAQs) \nEvent Staff Registration (Program Staff\, Cabin Leaders\, and Volunteers) \n			\n			\n				\n				\n				\n				\n			\n				\n				\n			\n				\n				\n				\n				\n				\n				\n				\n				\n				\n				\n				\n				\n				\n				\n				\n				\n				\n				\n			\n				\n				\n				\n				\n				\n			\n			\n				\n				\n				\n				\n				\n				\n				\n				\n				\n				\n\nThere is\nNothing else \nlike it…\n			\n			\n				\n				\n				\n				\n			\n				\n				\n				\n				\n				\n				\n				\n				\n				\n				\n				Our Junior and Primary Camp program is designed for our youngest campers. We’re committed to creating a fun and engaging experience for every child\, ensuring that each camper is surrounded by new friends and attentive cabin leaders who will guide them through their daily schedule. \nThey’ll quickly develop their self-confidence as they learn foundational truths of God’s story\, and build friendships that often last a lifetime! \n			\n			\n				\n				\n				\n				\n				\n				\n				\n				\n				\n				\n			\n			\n				\n				\n				\n				\n			\n				\n				\n				\n				\n				\n				\n				\n				\n				\n				\n				\n			\n			\n				\n				\n				\n				\n				\n				\n				\n				\n				\n				\n			\n			\n				\n				\n				\n				\n				\n				\n				\n				\n				\n				\n			\n			\n				\n				\n				\n				\n				\n				\n				\n				\n				\n				\n			\n			\n				\n				\n				\n				\n			\n				\n				\n				\n				\n				\n				\n				\n				\n				\n				\n				Junior Camp is for students entering 3rd grade-6th grade \n			\n			\n				\n				\n				\n				\n			\n				\n				\n			\n				\n				\n				\n				\n				\n				\n				\n				\n				\n				\n				\n				\n				\n				\n				\n				\n				\n				\n			\n			\n				\n				\n				\n				\n				\n				\n				\n				\n				\n				Speakers: Joe and Abby Beard\nJoe and Abby Beard have been married for 12 years and have 3 girls (Haddy 6\, Ivy 5\, and Gigi 6 months). They met at Grace University in Omaha\, NE and currently reside in North St Paul\, MN. Joe works hard at a small security company as a manager and Abby stays busy as the Director of Mid-week Children’s Discipleship at First Evangelical Free Church of Maplewood as well as at home watching 6 girls (3 additional nieces)! Joe grew up in NE and went to Maranatha’s TNT program back in the day. Abby loves all things chocolate and peanut butter and ocean animals. They are excited to serve together and learn all about how God sees us!  \n			\n			\n				\n				\n				\n				\n			\n				\n				\n			\n				\n				\n				\n				\n				\n				\n				\n				\n				\n				\n				\n				\n				\n				\n				\n				\n				\n				2022 Theme\n			\n				\n				\n				\n				\n				\n			\n			\n				\n				\n				\n				\n			\n				\n				\n				\n				\n				\n				\n				\n				\n				\n				\n				\n			\n			\n				\n				\n				\n				\n				\n				\n				\n				\n				\n				\n			\n			\n				\n				\n				\n				\n				\n				\n				\n				\n				\n				\n			\n			\n				\n				\n				\n				\n			\n				\n				\n				\n				\n				\n				\n				\n				\n				\n				\n				\n			\n			\n				\n				\n				\n				\n				\n				\n				\n				\n				\n				\n			\n			\n				\n				\n				\n				\n				\n			\n				\n				\n				\n				\n			\n				\n				\n				\n				\n				\n				\n				\n				\n				\n				\n				\n			\n			\n				\n				\n				\n				\n			\n				\n				\n			\n				\n				\n				\n				\n				\n				\n				\n				\n				\n				\n				\n				\n				\n				\n				\n				\n				\n				Register for Junior CampPrice is $340 per camper for all days and nights\, or $50/day (no overnight) \nNote: Check-in is from 1-3pm \n				Registration is Closed\n			\n				\n				\n				\n				\n				(View Scholarship Info & FAQs) \nEvent Staff Registration (Program Staff\, Cabin Leaders\, and Volunteers) \n			\n			\n				\n				\n				\n				\n			\n				\n				\n			\n				\n				\n				\n				\n				\n				\n				\n				\n				\n				\n				\n				\n				\n				\n				\n				\n				\n				Schedule\n			\n			\n				\n				\n				\n				\n			\n				\n				\n				\n				\n				\n				\n				\n				\n				\n				\n				Monday June 27\n\n1-3pm Check-in\n4pm Chapel\n5pm Dinner\n5:30pm Gym Free Time\n6-7:30pm Opening Chapel/Worship\n8pm Sweet Shop\n9:30pm Get ready for bed/Devo\n10pm Lights out\n\nTuesday June 28\n\n8am Breakfast\n8:30-9:30am Morning Chapel/Worship\n10am Rotating Activities\n12pm  Lunch\n12:30pm Rest/Break\n1:30pm Activity Choice Time\n4:30pm Get Ready for Dinner\n5pm Dinner\n5:30pm Gym Free Time\n6pm Evening Chapel/Worship\n7:30pm Sweet Shop/Capture the Flag\n9:30pm Get ready for bed/Devo\n10:00pm Lights out\n\n			\n			\n				\n				\n				\n				\n				\n				\n				\n				\n				\n				Wednesday June 29\n\n8am Breakfast\n8:30am Morning Chapel/Worship\n10am Rotating Activities\n12pm  Lunch\n12:30pm Rest/Break\n1:00pm Horseback riding $15\n1:30pm Mud Pit\n2:30pm Foam Wars\n3:30pm Shower/Rest Time\n4:30pm Get Ready for Dinner\n5pm Dinner\n5:30pm Gym Free Time\n6:30pm Evening Chapel/Worship\n7:30pm Sweet Shop/Skate Night\n9:30pm Get ready for bed/Devo\n10:30pm Lights out\n\n			\n			\n				\n				\n				\n				\n				\n				\n				\n				\n				\n				Thursday June 30\n\n8am Breakfast\n8:30am Morning Chapel/Worship\n10am Rotating Activities\n12pm  Lunch\n12:30pm Rest/Break\n1:30pm Activity Choice Time\n4:30pm Get Ready for Dinner\n5pm Dinner\n5:30pm Gym Free Time\n6pm Evening Chapel/Worship\n7:30pm Scavenger Hunt\n8:30pm Sweet Shop\n9:30pm Get ready for bed/Devo\n10:30PM Lights out\n\nFriday July 1\n\n8am Breakfast\n8:30am Pack Up\n9am Final Worship (all together)\n9:30am Final Chapel/Worship\n10am Goodbyes/Movie\n12pm Lunch\n1pm Parents Pick-up\n\n 
URL:https://maranathacamp.org/events/junior-camp-2022/
LOCATION:Maranatha Bible Camp\, 16800 E Maranatha Rd\, Maxwell\, NE\, 69151\, United States
CATEGORIES:Camps & Retreats,Kids & Families
ATTACH;FMTTYPE=image/jpeg:https://maranathacamp.org/wp-content/uploads/2021/12/junior-campers-covered-in-mud-group-portrait.jpg
END:VEVENT
BEGIN:VEVENT
DTSTART;TZID=America/Chicago:20220629T130000
DTEND;TZID=America/Chicago:20220701T130000
DTSTAMP:20260422T102117
CREATED:20211210T230909Z
LAST-MODIFIED:20231024T145231Z
UID:1377-1656507600-1656680400@maranathacamp.org
SUMMARY:Primary Camp 2022
DESCRIPTION:Early-Bird Special EXTENDED! Register by April 15th for 10% Off Summer 2022 Youth Camps \n			\n			\n				\n				\n				\n				\n			\n				\n				\n			\n				\n				\n				\n				\n				\n				\n				\n				\n				\n				\n				\n				\n				\n				\n				\n				\n				\n				Register for Primary CampPrice is $220 per camper for all days and nights\, or $50 for just the full day (no overnight). Primary camp is for children in kindergarten to 3rd grade. \nNote: Check-in is from 1-3pm. Cabin Leaders Needed- Apply Here \n				Registration is Closed\n			\n				\n				\n				\n				\n				(View Scholarship Info & FAQs) \nEvent Staff Registration (Program Staff\, Volunteers\, and Cabin Leaders) \n			\n			\n				\n				\n				\n				\n			\n				\n				\n			\n				\n				\n				\n				\n				\n				\n				\n				\n				\n				\n				\n				\n				\n				\n				\n				\n				\n				\n			\n			\n				\n				\n				\n				\n				\n				\n				\n				\n				\n				There is\nNothing else \nlike it…\n			\n			\n				\n				\n				\n				\n			\n				\n				\n				\n				\n				\n				\n				\n				\n				\n				\n				Our Junior and Primary Camp program is designed for our youngest campers. We’re committed to creating a fun and engaging experience for every child\, ensuring that each camper is surrounded by new friends and attentive cabin leaders who will guide them through their daily schedule. \nThey’ll quickly develop their self-confidence as they learn foundational truths of God’s story\, and build friendships that often last a lifetime! \n \n			\n			\n				\n				\n				\n				\n				\n				\n				\n				\n				\n				\n			\n			\n				\n				\n				\n				\n			\n				\n				\n			\n				\n				\n				\n				\n				\n				\n				\n				\n				\n				\n				\n				\n				\n				\n				\n				\n				\n				\n			\n			\n				\n				\n				\n				\n				\n				\n				\n				\n				\n				Speakers: Joe & Abby Beard\nJoe and Abby Beard have been married for 12 years and have 3 girls (Haddy 6\, Ivy 5\, and Gigi 6 months). They met at Grace University in Omaha\, NE and currently reside in North St Paul\, MN. Joe works hard at a small security company as a manager and Abby stays busy as the Director of Mid-week Children’s Discipleship at First Evangelical Free Church of Maplewood as well as at home watching 6 girls (3 additional nieces)! Joe grew up in NE and went to Maranatha’s TNT program back in the day. Abby loves all things chocolate and peanut butter and ocean animals. They are excited to serve together and learn all about how God sees us!  \n			\n			\n				\n				\n				\n				\n			\n				\n				\n			\n				\n				\n				\n				\n				\n				\n				\n				\n				\n				\n				\n				\n				\n				\n				\n				\n				\n				2022 Theme\n			\n				\n				\n				\n				\n				\n			\n			\n				\n				\n				\n				\n			\n				\n				\n				\n				\n				\n				\n				\n				\n				\n				\n				\n			\n			\n				\n				\n				\n				\n				\n				\n				\n				\n				\n				\n			\n			\n				\n				\n				\n				\n				\n				\n				\n				\n				\n				\n			\n			\n				\n				\n				\n				\n			\n				\n				\n				\n				\n				\n				\n				\n				\n				\n				\n				\n			\n			\n				\n				\n				\n				\n			\n				\n				\n			\n				\n				\n				\n				\n				\n				\n				\n				\n				\n				\n				\n				\n				\n				\n				\n				\n				\n				Register for Primary CampPrice is $220 per camper for all days and nights\, or $50 for just the full day (no overnight). Primary camp is for children in kindergarten to 3rd grade. \nNote: Check-in is from 1-3pm. Cabin Leaders Needed- Apply Here \n				Registration is Closed\n			\n				\n				\n				\n				\n				(View Scholarship Info & FAQs) \nEvent Staff Registration (Program Staff\, Volunteers\, and Cabin Leaders) \n			\n			\n				\n				\n				\n				\n			\n				\n				\n			\n				\n				\n				\n				\n				\n				\n				\n				\n				\n				\n				\n				\n				\n				\n				\n				\n				\n				Schedule\n			\n			\n				\n				\n				\n				\n			\n				\n				\n				\n				\n				\n				\n				\n				\n				\n				\n				Wednesday June 29\n1-3pm4pm Opening Chapel5pm Dinner5:30pm Gym Free Time6:30pm Evening Chapel/Worship7:30pm Sweet Shop/Skate Night9:30pm Get ready for bed/Evening Devo10:30pm Lights out \n			\n			\n				\n				\n				\n				\n				\n				\n				\n				\n				\n				Thursday June 30\n8am Breakfast8:30am Morning Chapel/Worship10am Rotating Activities4:30pm Get Ready for Dinner5pm Dinner5:30pm Gym Free Time6pm Evening Chapel/Worship7:30pm Scavenger Hunt8:30pm Sweet Shop9:30pm Get ready for bed/Devo10:30pm Lights out \n			\n			\n				\n				\n				\n				\n				\n				\n				\n				\n				\n				Friday July 1\n8am Breakfast8:30am Pack Up9am Final Worship/Chapel10am Goodbyes/Movie12pm Lunch1pm Parents Pick-Up \n 
URL:https://maranathacamp.org/events/primary-camp-2022/
LOCATION:Maranatha Bible Camp\, 16800 E Maranatha Rd\, Maxwell\, NE\, 69151\, United States
CATEGORIES:Camps & Retreats,Kids & Families
ATTACH;FMTTYPE=image/jpeg:https://maranathacamp.org/wp-content/uploads/2021/12/three-primary-campers.jpg
END:VEVENT
BEGIN:VEVENT
DTSTART;TZID=America/Chicago:20220704T130000
DTEND;TZID=America/Chicago:20220708T100000
DTSTAMP:20260422T102117
CREATED:20211022T180035Z
LAST-MODIFIED:20220927T202752Z
UID:943-1656939600-1657274400@maranathacamp.org
SUMMARY:Family Camp 1
DESCRIPTION:“Family Camp is where parents and kids spend time together renewing their relationship with Jesus Christ. It’s where you lay the spiritual foundation you want to pass on to the next generation and the next.” \n			\n			\n				\n				\n				\n				\n			\n				\n				\n			\n				\n				\n				\n				\n				\n				\n				\n				\n				\n				\n				\n				\n				\n				\n				\n				\n				\n				Theme: Family Matters\n			\n				\n				\n				\n				\n				Our goal for Maranatha family ministry is to refresh\, equip\, and mobilize the family.   \n			\n				Register Now\n			\n				\n				\n				\n				\n				3/22/2022 Update- 1 RV spot left \n			\n				\n				\n				\n				\n				Event Staff Registration (Program Staff and Volunteers) \n			\n			\n				\n				\n				\n				\n				\n				\n				\n				\n				\n				\n			\n			\n				\n				\n				\n				\n			\n				\n				\n			\n				\n				\n				\n				\n				\n				\n				\n				\n				\n				\n				\n				\n				\n				\n				\n				\n				\n				Speaker: Bryan Clark\n			\n				\n				\n				\n				\n				\n			\n			\n				\n				\n				\n				\n				\n				\n				\n				\n				\n				Bryan Clark became the Senior Pastor of Lincoln Berean Church in Lincoln\, Nebraska in 1995.  Prior to that\, he pastored in the Sandhills of Nebraska for 10 years. He was educated at Moody Bible Institute\, University of Nebraska\, Talbot Seminary (Master’s in education) and Denver Seminary (MDiv\, DMin).    \nBryan recently released a Children’s chapter book entitled The Land of Ott which can be found on Amazon\, and is contracted with David C. Cook to release a family related book in 2022. \nHe served as Bible teacher for Back to the Bible radio for a year ending May 2020. He is currently doing a podcast with Dan Whitney (a.k.a.\, Larry the Cable Guy) under the Back to the Bible brand.  \nBryan has been married to Patti for 40 years and they are parents of three adult daughters: Ashley\, Bobbi and Jayme.  Bryan enjoys horses\, fishing\, welding\, blacksmithing\, restorations\, leather work and playing the cello.   \nBryan has been a speaker at Moody Bible Institutes Founder’s Week and his messages are broadcast regularly across the State of Nebraska through the My Bridge radio network.  \n \n			\n			\n				\n				\n				\n				\n			\n				\n				\n			\n				\n				\n				\n				\n				\n				\n				\n				\n				\n				\n				\n				\n				\n				\n				\n				\n				\n				Check Out These Recent Highlight Videos *\n  \n			\n			\n				\n				\n				\n				\n			\n				\n				\n				\n				\n				\n				\n				\n				\n				\n				\n				\n				\n			\n			\n				\n				\n				\n				\n				\n				\n				\n				\n				\n				\n				\n			\n			\n				\n				\n				\n				\n			\n				\n				\n				\n				\n				\n				\n				\n				\n				\n				\n				*Highlight videos include footage from 2021 and 2019. Please note that activities featured in these videos change from camp to camp and all activities you see may not be included in all family camps. More activity information will be available when the schedule is published and is subject to change. \n  \nThe Value of Family Camp\n  \n			\n				\n				\n				\n				\n				\n				\n			\n			\n				\n				\n				\n				\n			\n				\n				\n			\n				\n				\n				\n				\n				\n				\n				\n				\n				\n				\n				\n				\n				\n				\n				\n				\n				\n				Pricing\nThe pricing for family camp is $170 per person\, plus the lodging-style based fee. Children 5 and under are free. \n			\n				\n				\n				\n				\n				\n					\n				\n				\n				\n				\n				\n					Lake House\n					SOLD-OUT\n				\n				\n					$545\n				\n				\n					Family Camp ProgramFamily Camp ActivitiesFamily Camp MealsStay in a house on the lakeFull kitchenLaundry MachinesBedding and TowelsTotal Spaces: 2\n				\n				\n			\n				\n				\n				\n				\n				\n					Motel-Style\n					$170/person\, plus\n				\n				\n					$395\n				\n				\n					Family Camp ProgramFamily Camp ActivitiesFamily Camp MealsPrivate RestroomBedding and TowelsTotal Spaces: 24\n				\n				\n			\n				\n				\n				\n				\n				\n					Dorm-Style\n					$170/person\, plus\n				\n				\n					$290\n				\n				\n					Family Camp ProgramFamily Camp ActivitiesFamily Camp MealsShared Hallway RestroomBring your own bedding\, towels\, and toiletriesTotal Spaces: 50\n				\n				\n			\n				\n			\n				\n				\n				\n				\n				Other Options\nBring-Your-Own RV – $170/person + $175 (housing charge)\nElectrical hookup. Water and sewer in summer only. \n \nBring-Your-Own Tent – $170/person + $115 (housing charge)\n			\n				Register Now\n			\n				\n				\n				\n				\n				Event Staff Registration (Program Staff and Volunteers) \n			\n			\n				\n				\n				\n				\n			\n				\n				\n			\n				\n				\n				\n				\n				\n				\n				\n				\n				\n				\n				\n				\n				\n				\n				\n				\n				\n				Schedule\n			\n			\n				\n				\n				\n				\n			\n				\n				\n				\n				\n				\n				\n				\n				\n				\n				\n				Monday\, July 4th\n1-6pm – Check-in \n6:30pm – Supper at Waterfront \n9pm – Patriotic Sing-along \n9:45pm – Fireworks \n  \n\nTuesday\, July 5th\n8:30am – Breakfast (+Coffee Shop 8:30-9am) \n9:30am – Chapel Session 1: The Biblical Purpose of the Family \n10:30am – Family Activities and Devotions \n12pm – Lunch (+Coffee Shop 12-2pm) \n1-5pm – Afternoon Activities (+Sweetshop + Craft shop) \n5:30pm – Supper (+Coffee Shop 6-7pm) \n6:45pm – Childcare check-in \n7pm – Chapel Session 2: The Breakdown of the Family \n8:30pm – Childcare check-out \n9pm – Skate night (+Sweetshop 9:30-10pm) \n			\n			\n				\n				\n				\n				\n				\n				\n				\n				\n				\n				Wednesday\, July 6th\n8:30am – Breakfast (+Coffee Shop 8:30-9am) \n9:30am – Chapel Session 3: The Family and Culture \n10:30am – Family Activities and Devotions \n12pm – Lunch (+Coffee Shop 12-2pm) \n1-5pm Afternoon Activities (+ Sweetshop + Craftshop) \n2pm – FOAM Cannons! \n5:30pm – Supper (+Coffee Shop 6-7pm) \n6:45pm – Childcare check-in \n7pm – Chapel Session 4: Roles at Home \n8:30pm – Childcare check-out \n9pm – Pool Party! (+Smores + Sweetshop 9-10:30pm) \n  \n  \n			\n			\n				\n				\n				\n				\n				\n				\n				\n				\n				\n				Thursday\, July 7th\n8:30am – Breakfast (+Coffee Shop 8:30-9am) \n9:30am – Chapel Session 5: Grace at Home \n10:15am – Family Activities \n12pm – Lunch (+Coffee Shop 12-2pm) \n1-5pm Afternoon Activities (+Sweetshop + Craftshop) \n5:30pm – Supper (+Coffee Shop 6-7pm) \n6:45pm – Childcare check-in \n7pm – Chapel Session 6: Question & Answer \n8:15pm – Childcare check-out \n9pm – Talent Show (+ Sweetshop 9-10:30pm) \n  \nFriday\, July 8th\n8:30am – Breakfast (+ Coffeeshop 8:30-9:30) \n10am – Checkout of rooms \n10am – Chapel \n 
URL:https://maranathacamp.org/events/family-camp-1-2022/
LOCATION:Maranatha Bible Camp\, 16800 E Maranatha Rd\, Maxwell\, NE\, 69151\, United States
CATEGORIES:Camps & Retreats,Kids & Families
ATTACH;FMTTYPE=image/jpeg:https://maranathacamp.org/wp-content/uploads/2021/10/2016-Family-Swimming-1600.jpg
END:VEVENT
BEGIN:VEVENT
DTSTART;VALUE=DATE:20220717
DTEND;VALUE=DATE:20220721
DTSTAMP:20260422T102117
CREATED:20211210T233021Z
LAST-MODIFIED:20220426T144601Z
UID:1397-1658016000-1658361599@maranathacamp.org
SUMMARY:Joni & Friends - Nebraska Family Retreat
DESCRIPTION:View the Event Details  \nThe details for this event are posted by Joni & Friends on their website.   \n				Visit Event Page on J&F Website
URL:https://maranathacamp.org/events/joni-and-friends/
LOCATION:Maranatha Bible Camp\, 16800 E Maranatha Rd\, Maxwell\, NE\, 69151\, United States
CATEGORIES:Camps & Retreats,Kids & Families
ATTACH;FMTTYPE=image/jpeg:https://maranathacamp.org/wp-content/uploads/2021/12/joni-and-friends-retreat-guests-clear.jpg
END:VEVENT
BEGIN:VEVENT
DTSTART;TZID=America/Chicago:20220720T130000
DTEND;TZID=America/Chicago:20220723T100000
DTSTAMP:20260422T102117
CREATED:20211026T202605Z
LAST-MODIFIED:20220927T203000Z
UID:990-1658322000-1658570400@maranathacamp.org
SUMMARY:Family Camp 2
DESCRIPTION:“Family Camp is where parents and kids spend time together renewing their relationship with Jesus Christ. It’s where you lay the spiritual foundation you want to pass on to the next generation and the next.” \n			\n			\n				\n				\n				\n				\n			\n				\n				\n			\n				\n				\n				\n				\n				\n				\n				\n				\n				\n				\n				\n				\n				\n				\n				\n				\n				\n				Theme: Family Matters\n			\n				\n				\n				\n				\n				Our goal for Maranatha family ministry is to refresh\, equip\, and mobilize the family.   \n			\n				Register Now\n			\n				\n				\n				\n				\n				Event Staff Registration (Program Staff and Volunteers) \n			\n			\n				\n				\n				\n				\n				\n				\n				\n				\n				\n				\n			\n			\n				\n				\n				\n				\n			\n				\n				\n			\n				\n				\n				\n				\n				\n				\n				\n				\n				\n				\n				\n				\n				\n				\n				\n				\n				\n				Speaker: Chuck Lawson\nChuck Lawson has retired after serving eighteen years in local church ministry and the last 31 years as either principal or Head of school. He started out as a youth pastor and then served as a pastor and Christian education pastor in central Nebraska. Twenty-seven of those years have been in private Christian schools in Nebraska\, Illinois\, Georgia\, and Missouri and four years as principal in a public high school in Illinois. \nHe graduated from Western Bible College with a degree in Bible and a minor in Christian Education. Western has since merged with several other colleges to form Colorado Christian University. He also has a master degree in Educational Leadership from Aurora University in Aurora\, Illinois. \nHe has been married to Brenda for 44 years and they live in Blue Springs\, Missouri. They have two sons and one grandson. \n			\n			\n				\n				\n				\n				\n				\n				\n				\n				\n				\n				\n			\n			\n				\n				\n				\n				\n			\n				\n				\n			\n				\n				\n				\n				\n				\n				\n				\n				\n				\n				\n				\n				\n				\n				\n				\n				\n				\n				Check Out These Recent Highlight Videos *\n  \n			\n			\n				\n				\n				\n				\n			\n				\n				\n				\n				\n				\n				\n				\n				\n				\n				\n				\n				\n			\n			\n				\n				\n				\n				\n				\n				\n				\n				\n				\n				\n				\n			\n			\n				\n				\n				\n				\n			\n				\n				\n				\n				\n				\n				\n				\n				\n				\n				\n				*Highlight videos include footage from 2021 and 2019. Please note that activities featured in these videos change from camp to camp and all activities you see may not be included in all family camps. More activity information will be available when the schedule is published and is subject to change. \n  \nThe Value of Family Camp\n  \n			\n				\n				\n				\n				\n				\n				\n			\n			\n				\n				\n				\n				\n			\n				\n				\n			\n				\n				\n				\n				\n				\n				\n				\n				\n				\n				\n				\n				\n				\n				\n				\n				\n				\n				Pricing\nThe pricing for family camp is $130 per person\, plus the lodging-style based fee. Children 5 and under are free. \n			\n				\n				\n				\n				\n				\n					\n				\n				\n				\n				\n				\n					Lake House\n					SOLD-OUT\n				\n				\n					$495\n				\n				\n					Family Camp ProgramFamily Camp ActivitiesFamily Camp MealsStay in a house on the lakeFull kitchenLaundry MachinesBedding and TowelsTotal Spaces: 2\n				\n				\n			\n				\n				\n				\n				\n				\n					Motel-Style\n					$130/person\, plus\n				\n				\n					$345\n				\n				\n					Family Camp ProgramFamily Camp ActivitiesFamily Camp MealsPrivate RestroomBedding and TowelsTotal Spaces: 24\n				\n				\n			\n				\n				\n				\n				\n				\n					Dorm-Style\n					$130/person\, plus\n				\n				\n					$240\n				\n				\n					Family Camp ProgramFamily Camp ActivitiesFamily Camp MealsShared Hallway RestroomBring your own bedding\, towels\, and toiletriesTotal Spaces: 50\n				\n				\n			\n				\n			\n				\n				\n				\n				\n				Other Options\nBring-Your-Own RV – $130/person + $135 (housing charge)\nElectrical hookup. Water and sewer in summer only. \n \nBring-Your-Own Tent – $130/person + $100 (housing charge)\n			\n				Register Now\n			\n				\n				\n				\n				\n				Event Staff Registration (Program Staff and Volunteers)
URL:https://maranathacamp.org/events/family-camp-2-2022/
LOCATION:Maranatha Bible Camp\, 16800 E Maranatha Rd\, Maxwell\, NE\, 69151\, United States
CATEGORIES:Camps & Retreats,Kids & Families
ATTACH;FMTTYPE=image/jpeg:https://maranathacamp.org/wp-content/uploads/2021/10/2016-Family-Swimming-1600.jpg
END:VEVENT
END:VCALENDAR