BEGIN:VCALENDAR
VERSION:2.0
PRODID:-//Maranatha Camp - ECPv6.15.20//NONSGML v1.0//EN
CALSCALE:GREGORIAN
METHOD:PUBLISH
X-ORIGINAL-URL:https://maranathacamp.org
X-WR-CALDESC:Events for Maranatha Camp
REFRESH-INTERVAL;VALUE=DURATION:PT1H
X-Robots-Tag:noindex
X-PUBLISHED-TTL:PT1H
BEGIN:VTIMEZONE
TZID:America/Chicago
BEGIN:DAYLIGHT
TZOFFSETFROM:-0600
TZOFFSETTO:-0500
TZNAME:CDT
DTSTART:20210314T080000
END:DAYLIGHT
BEGIN:STANDARD
TZOFFSETFROM:-0500
TZOFFSETTO:-0600
TZNAME:CST
DTSTART:20211107T070000
END:STANDARD
BEGIN:DAYLIGHT
TZOFFSETFROM:-0600
TZOFFSETTO:-0500
TZNAME:CDT
DTSTART:20220313T080000
END:DAYLIGHT
BEGIN:STANDARD
TZOFFSETFROM:-0500
TZOFFSETTO:-0600
TZNAME:CST
DTSTART:20221106T070000
END:STANDARD
BEGIN:DAYLIGHT
TZOFFSETFROM:-0600
TZOFFSETTO:-0500
TZNAME:CDT
DTSTART:20230312T080000
END:DAYLIGHT
BEGIN:STANDARD
TZOFFSETFROM:-0500
TZOFFSETTO:-0600
TZNAME:CST
DTSTART:20231105T070000
END:STANDARD
END:VTIMEZONE
BEGIN:VEVENT
DTSTART;TZID=America/Chicago:20221017T160000
DTEND;TZID=America/Chicago:20221019T130000
DTSTAMP:20260424T033802
CREATED:20220727T202443Z
LAST-MODIFIED:20221012T224458Z
UID:2278-1666022400-1666184400@maranathacamp.org
SUMMARY:Iowa-Nebraska Fall Fellowship (CCCA)
DESCRIPTION:We are honored to host the 2022 Fall Sectional retreat for Iowa and Nebraska camps in the Christian Camp and Conference Association (3CA). This event is not for the general public\, but for the staff of other 3CA camps in the bistate area. \nEvent details will be available here as they are determined. \n			\n			\n				\n				\n				\n				\n			\n				\n				\n			\n				\n				\n				\n				\n				\n				\n				\n				\n				\n				\n				\n				\n				\n				\n				\n				\n				\n				\n			\n			\n				\n				\n				\n				\n				\n				\n				\n				\n				\n				Bill Tell\, Guest Speaker\nOur Iowa/Nebraska Fall Fellowship is thrilled to welcome back Bill Tell as our retreat speaker. Bill is currently a member of the Navigators Learning and Development team and serves as a US Staff Development Specialist. Bill will be encouraging us in God’s Word around the theme of “Understanding and leading movements of the gospel”.  \n			\n			\n				\n				\n				\n				\n			\n				\n				\n			\n				\n				\n				\n				\n				\n				\n				\n				\n				\n				\n				\n				\n				\n				\n				\n				\n				\n				Anticipated Activities/Amenities Include:\n\nFishing\, boating\, relaxing around private lake (no fishing license required)\nRoller skating\nSpa/hot tub\nState-of-the-art trap shooting course (shotguns and ammo available for a fee)\n18 hole frisbee golf course \nFull-service coffee and snack shop \nZip line and rock wall\nBiking/hiking trails \n\n			\n			\n				\n				\n				\n				\n				\n				\n				\n				\n				\n				Area Attractions\nAvailable in North Platte\, NE\, within a 20 minute drive. \n\nBuffalo Bill Historic Ranch\nHistoric downtown with charming coffee shops and ice cream parlor \n18-hole golf courses\nUnion Pacific Railroad Yard and Golden Spike Tower (largest rail yard in the U.S.)\n\n\nhttps://www.tripadvisor.com/Attractions-g45737-Activities-North_Platte_Nebraska.html\n			\n			\n				\n				\n				\n				\n			\n				\n				\n			\n				\n				\n				\n				\n				\n				\n				\n				\n				\n				\n				\n				\n				\n				\n				\n				\n				\n				Registration InfoFor this retreat\, the following options are available: \nMotel-Style Lodging- $120/personRooms with private restrooms – Some rooms have a capacity of 3 and others a capacity of 5 guests(25 rooms\, these go fast; first-come\, first-serve)Additional motels available nearby in North Platte\, NE \nDorm-Style Lodging- $90/personRooms with hallway Jack-and-Jill-style restrooms – Up to 4 staff from your camp in a room (2 twin bunk sets) \nCommute- $40/personFor anyone who can make the daily drive\, or is only attending for the full-day of the retreat (Tuesday) \n\n				Register Now\n			\n			\n				\n				\n				\n				\n			\n				\n				\n			\n				\n				\n				\n				\n				\n				\n				\n				\n				\n				\n				\n				\n				\n				\n				\n				\n				\n				Schedule\n			\n			\n				\n				\n				\n				\n			\n				\n				\n				\n				\n				\n				\n				\n				\n				\n				\n				Monday\, October 17\n\n4:00pm • Registration – Welcome Center  – (Wagon Rides available till dinner) \n5:30pm • Supper – Dining Hall  – After dinner relax around the campus  – Coffee Shop Open until Session 1 begins \n6:45pm • General Session #1 – Chapel \n8:15pm • Evening activities available  – Coffee shop open  – Campfire going  – Roller Skating Night\, Rock Wall open  – Popcorn  – Ping-pong\, indoor corn hole and 9-square \n \n \n			\n				\n				\n				\n				\n				Tuesday\, October 18\nEnjoy the campus \n7:30am • Coffee Shop  – (Open through breakfast) \n8:00am • Breakfast – Dining Hall \n9:15am • General Session #2 – Chapel \n10:30am Department Walk-arounds/ Tours  – Food Service  – Recreation  – Housekeeping  – Properties and Maintenance  – Technology\, AV/ITOr Just Enjoy The Campus \n12pm • Lunch – Dining Hall  – Coffee shop open over noon hour \n1:00pm • Group Discussions: Best Practices  – Programming  – Summer Staff Training  – Full-time Staff Care  – Mental Health Needs  – Fundraising and Capital Campaigns  – Hospitality\, Customer Service\, and First Impressions  -Others? \n2:30pm • Afternoon Activities Available  – Disc Golf  – Canoe\, Kayaking\, and Fishing (gear available)  – Trap Shooting (shotguns/ammo available for rent/purchase $30)  – Trail Hiking  – Mini Golf  – Open Gym  – Coffee Shop Open  – North Platte Attractions available (20 min away) \n5:30pm • Dinner – Dining Hall   – Coffee shop open until Session 3 starts \n6:45pm • General Session #3 – Chapel \n8:15pm • Evening Activities Available  – Sweet Shop Open\, Yummy Treats Served at Sweetshop  – Axe-Throwing  – Night Zip-Lining \n9:00pm • Table Volleyball Tournament (Gym) \n11:00pm • Night Sneak-Out?!?! ¯\_(ツ)_/¯ \n \n \nWednesday\, October 19\n \nEnjoy the campus \n7:30am • Coffee Shop Open (through breakfast) \n8:00am • Breakfast – Dining Hall \n9:15am • General Session #4 – Chapel \n10:30am • Fall fellowship concludes!  * Please check out of your room by 11AM *
URL:https://maranathacamp.org/events/iowa-nebraska-fall-fellowship-ccca/
LOCATION:Maranatha Bible Camp\, 16800 E Maranatha Rd\, Maxwell\, NE\, 69151\, United States
CATEGORIES:Camps & Retreats
ATTACH;FMTTYPE=image/jpeg:https://maranathacamp.org/wp-content/uploads/2022/07/2016-maranatha-lake.jpg
END:VEVENT
END:VCALENDAR