BEGIN:VCALENDAR
VERSION:2.0
PRODID:-//Maranatha Camp - ECPv6.15.20//NONSGML v1.0//EN
CALSCALE:GREGORIAN
METHOD:PUBLISH
X-ORIGINAL-URL:https://maranathacamp.org
X-WR-CALDESC:Events for Maranatha Camp
REFRESH-INTERVAL;VALUE=DURATION:PT1H
X-Robots-Tag:noindex
X-PUBLISHED-TTL:PT1H
BEGIN:VTIMEZONE
TZID:America/Chicago
BEGIN:DAYLIGHT
TZOFFSETFROM:-0600
TZOFFSETTO:-0500
TZNAME:CDT
DTSTART:20220313T080000
END:DAYLIGHT
BEGIN:STANDARD
TZOFFSETFROM:-0500
TZOFFSETTO:-0600
TZNAME:CST
DTSTART:20221106T070000
END:STANDARD
BEGIN:DAYLIGHT
TZOFFSETFROM:-0600
TZOFFSETTO:-0500
TZNAME:CDT
DTSTART:20230312T080000
END:DAYLIGHT
BEGIN:STANDARD
TZOFFSETFROM:-0500
TZOFFSETTO:-0600
TZNAME:CST
DTSTART:20231105T070000
END:STANDARD
BEGIN:DAYLIGHT
TZOFFSETFROM:-0600
TZOFFSETTO:-0500
TZNAME:CDT
DTSTART:20240310T080000
END:DAYLIGHT
BEGIN:STANDARD
TZOFFSETFROM:-0500
TZOFFSETTO:-0600
TZNAME:CST
DTSTART:20241103T070000
END:STANDARD
END:VTIMEZONE
BEGIN:VEVENT
DTSTART;TZID=America/Chicago:20230217T160000
DTEND;TZID=America/Chicago:20230219T130000
DTSTAMP:20260422T222158
CREATED:20220926T215807Z
LAST-MODIFIED:20251209T190945Z
UID:2587-1676649600-1676811600@maranathacamp.org
SUMMARY:Winter Youth Retreat 2023
DESCRIPTION:BEST WEEKEND OF YOUR WINTER…\n\n\n\n\nPowerful teaching\, new memories\, exciting activities\, and impactful worship all in one weekend. \n\n\n			\n			\n				\n				\n				\n				\n				\n			\n				\n				\n				\n				\n			\n				\n				\n			\n				\n				\n				\n				\n				\n				\n				\n				\n				\n				\n				\n				\n				\n				\n				\n				\n				\n				Speaker: Chris Selby\n \n\nMy wife Susan and I have three amazing boys and a daughter by marriage! Our oldest son\, Blake\, and Taylor were recently married! Andrew is a freshman at John Brown University in Siloam Springs\, AR\, and Zane is in 8th grade at Lifeway Christian School in Centerton\, AR. \n The Gospel radically changed my life twenty five years ago as I put my trust in Christ alone for salvation. After 17 years being on staff in the local church the Lord led me to start Multiply Ministries in 2016. I am an evangelist and missionary to ministry leaders. I love serving them by inspiring\, equipping and encouraging them to equip their people to live on mission for Jesus. By God’s grace we coach around 30 youth leaders yearly and I have the opportunity to speak all over the country!\n\n			\n			\n				\n				\n				\n				\n				\n				\n				\n				\n				\n				\n			\n			\n				\n				\n				\n				\n			\n				\n				\n				\n				\n				\n				\n			\n				\n				\n				\n				\n				\n				\n				\n				\n				\n				Band: SOLA Worship Team\n \n\n\n\n			\n				\n				\n				\n				\n				\n			\n			\n				\n				\n				\n				\n				\n			\n				\n				\n				\n				\n			\n				\n				\n			\n				\n				\n				\n				\n				\n				\n				\n				\n				\n				\n				\n				\n				\n				\n				\n				\n				\n				Register For Winter RetreatWinter Youth Retreat is for all middle and high school students. The earlybird price per person includes lodging\, meals\, and the winter camp program for only $119 ($139 after January 31st). \n				Register Now\n			\n				\n				\n				\n				\n				Please review our updated Payment and Refund Policy \nEvent Staff can register here. If you have a student attending\, they need to be registered seperately using the button above. \n			\n			\n				\n				\n				\n				\n			\n				\n				\n			\n				\n				\n				\n				\n				\n				\n				\n				\n				\n				\n				\n				\n				\n				\n				\n				\n				\n				Schedule\n  \n			\n			\n				\n				\n				\n				\n			\n				\n				\n				\n				\n				\n				\n				\n				\n				\n				\n				FRIDAY \n4-6pm – Registration \n6pm – DINNER \n7pm – SESSION 1 \n8:30pm – Church/Cabin time \n9:30pm – Free time \n11:30pm – BACK TO CABINS \n12:00pm – Lights Out \n			\n			\n				\n				\n				\n				\n				\n				\n				\n				\n				\n				SATURDAY \n8am – Breakfast \n9am – SESSION 2 \n10:30am – Church/Cabin time \n11:30am – Personal Devo time \n12pm – Lunch \n1pm – GROUP GAME  \n2pm – Free Time \n4:30pm – Small Group time \n6pm – DINNER \n7pm – SESSION 3 \n8:30pm – Church/Cabin time \n9:30pm – GLOW NIGHT \n11:30pm – BACK TO CABINS \n12pm – Lights Out \n			\n			\n				\n				\n				\n				\n				\n				\n				\n				\n				\n				SUNDAY \n8am – Breakfast \n9am – SESSION 4 \n10:30am – Church/Cabin time \n12pm – Lunch \nRETREAT ENDS
URL:https://maranathacamp.org/events/winter-retreat-2023/
LOCATION:Maranatha Bible Camp\, 16800 E Maranatha Rd\, Maxwell\, NE\, 69151\, United States
CATEGORIES:Camps & Retreats,Kids & Families
ATTACH;FMTTYPE=image/png:https://maranathacamp.org/wp-content/uploads/2022/11/2022-winter-retreat-banner-rewired.png
END:VEVENT
END:VCALENDAR