BEGIN:VCALENDAR
VERSION:2.0
PRODID:-//Maranatha Camp - ECPv6.15.20//NONSGML v1.0//EN
CALSCALE:GREGORIAN
METHOD:PUBLISH
X-ORIGINAL-URL:https://maranathacamp.org
X-WR-CALDESC:Events for Maranatha Camp
REFRESH-INTERVAL;VALUE=DURATION:PT1H
X-Robots-Tag:noindex
X-PUBLISHED-TTL:PT1H
BEGIN:VTIMEZONE
TZID:America/Chicago
BEGIN:DAYLIGHT
TZOFFSETFROM:-0600
TZOFFSETTO:-0500
TZNAME:CDT
DTSTART:20220313T080000
END:DAYLIGHT
BEGIN:STANDARD
TZOFFSETFROM:-0500
TZOFFSETTO:-0600
TZNAME:CST
DTSTART:20221106T070000
END:STANDARD
BEGIN:DAYLIGHT
TZOFFSETFROM:-0600
TZOFFSETTO:-0500
TZNAME:CDT
DTSTART:20230312T080000
END:DAYLIGHT
BEGIN:STANDARD
TZOFFSETFROM:-0500
TZOFFSETTO:-0600
TZNAME:CST
DTSTART:20231105T070000
END:STANDARD
BEGIN:DAYLIGHT
TZOFFSETFROM:-0600
TZOFFSETTO:-0500
TZNAME:CDT
DTSTART:20240310T080000
END:DAYLIGHT
BEGIN:STANDARD
TZOFFSETFROM:-0500
TZOFFSETTO:-0600
TZNAME:CST
DTSTART:20241103T070000
END:STANDARD
END:VTIMEZONE
BEGIN:VEVENT
DTSTART;TZID=America/Chicago:20230428T160000
DTEND;TZID=America/Chicago:20230430T160000
DTSTAMP:20260423T172742
CREATED:20220623T232743Z
LAST-MODIFIED:20230420T145952Z
UID:2191-1682697600-1682870400@maranathacamp.org
SUMMARY:Dad & Me Retreat
DESCRIPTION:Just you and Me\, Dad! \n			\n			\n				\n				\n				\n				\n			\n				\n				\n				\n				\n				\n				\n				\n				\n				\n				\n				Calling all Dads: Are you looking for an opportunity to get away from your busy life to spend quality time away with your kids? Consider attending our Dad & Me retreat. We will also be listing an option to join us for the program just for the day on Saturday if that option will work better for you and your family. \nWe’ll provide all the food and activities for this event. \n			\n			\n				\n				\n				\n				\n			\n				\n				\n			\n				\n				\n				\n				\n				\n				\n				\n				\n				\n				\n				\n				\n				\n				\n				\n				\n				\n				Schedule\n(Note: In development. Devotional times TBD) \nAll “Free Time” activity options include: Disc Golf\, Fishing\, Board Games\, Putt Putt\, Canoes\, Gym\, Nature Trails\, Swings \n			\n			\n				\n				\n				\n				\n			\n				\n				\n				\n				\n				\n				\n				\n				\n				\n				\n				Friday\, April 28th\n\n4-6pm – Check-in\n5:30pm – Supper (& Coffee Shop)\n6:30pm – Free Time\n\n7pm – Archery Tag\n8pm – Smores\n\n\n\n			\n			\n				\n				\n				\n				\n				\n				\n				\n				\n				\n				Saturday\, April 29th\n\n8am – Breakfast (& Coffee Shop)\n9am – Free Time\n\nVarious Activities\n\n\n12pm – Lunch (& Coffee Shop)\n1pm – Free Time\n\n1-2pm Zipline\n2:30-3:30pm Archery Tag\n\n\n5:30pm – Supper (& Coffee Shop)\n6:30pm – Free Time\n\n7-9pm Climbing Wall & Skating\n8pm Smores\n\n\n\n			\n			\n				\n				\n				\n				\n				\n				\n				\n				\n				\n				Sunday\, April 30th\n\n8am – Breakfast (& Coffee Shop)\n9am – Free Time\n\nVarious Activities\n\n\n12pm – Lunch (& Coffee Shop)\n1pm – Free Time\n\nVarious Activities\n\n\n4pm – Depart\n\n			\n			\n				\n				\n				\n				\n			\n				\n				\n			\n				\n				\n				\n				\n				\n				\n				\n				\n				\n				\n				\n				\n				\n				\n				\n				\n				\n				\n					\n					\n						Register\n						$50 per person*\, plus one-time lodging charge:Motel-Style (in-room restroom\, linens provided) – $100Tent/RV Space (shared bathhouse\, bring linens) $30Commute All Days- per person charge only*OR:Saturday Only (program & meals\, no lodging)– $20 per person25% of total is a non-refundable deposit \n					\n				\n			\n				Register Now\n			\n				\n				\n				\n				\n				Please review our updated Payment and Refund Policy
URL:https://maranathacamp.org/events/dad-and-me-retreat/
LOCATION:Maranatha Bible Camp\, 16800 E Maranatha Rd\, Maxwell\, NE\, 69151\, United States
CATEGORIES:Camps & Retreats,Kids & Families
ATTACH;FMTTYPE=image/jpeg:https://maranathacamp.org/wp-content/uploads/2022/01/dad-and-kids-at-fishing-and-zipline.jpg
END:VEVENT
END:VCALENDAR