BEGIN:VCALENDAR
VERSION:2.0
PRODID:-//Maranatha Camp - ECPv6.15.20//NONSGML v1.0//EN
CALSCALE:GREGORIAN
METHOD:PUBLISH
X-ORIGINAL-URL:https://maranathacamp.org
X-WR-CALDESC:Events for Maranatha Camp
REFRESH-INTERVAL;VALUE=DURATION:PT1H
X-Robots-Tag:noindex
X-PUBLISHED-TTL:PT1H
BEGIN:VTIMEZONE
TZID:America/Chicago
BEGIN:DAYLIGHT
TZOFFSETFROM:-0600
TZOFFSETTO:-0500
TZNAME:CDT
DTSTART:20220313T080000
END:DAYLIGHT
BEGIN:STANDARD
TZOFFSETFROM:-0500
TZOFFSETTO:-0600
TZNAME:CST
DTSTART:20221106T070000
END:STANDARD
BEGIN:DAYLIGHT
TZOFFSETFROM:-0600
TZOFFSETTO:-0500
TZNAME:CDT
DTSTART:20230312T080000
END:DAYLIGHT
BEGIN:STANDARD
TZOFFSETFROM:-0500
TZOFFSETTO:-0600
TZNAME:CST
DTSTART:20231105T070000
END:STANDARD
BEGIN:DAYLIGHT
TZOFFSETFROM:-0600
TZOFFSETTO:-0500
TZNAME:CDT
DTSTART:20240310T080000
END:DAYLIGHT
BEGIN:STANDARD
TZOFFSETFROM:-0500
TZOFFSETTO:-0600
TZNAME:CST
DTSTART:20241103T070000
END:STANDARD
END:VTIMEZONE
BEGIN:VEVENT
DTSTART;TZID=America/Chicago:20230731T130000
DTEND;TZID=America/Chicago:20230804T090000
DTSTAMP:20260423T103958
CREATED:20221101T050159Z
LAST-MODIFIED:20231023T150739Z
UID:2655-1690808400-1691139600@maranathacamp.org
SUMMARY:Family Camp 3 - 2023
DESCRIPTION:“Family Camp is where parents and kids spend time together renewing their relationship with Jesus Christ. It’s where you lay the spiritual foundation you want to pass on to the next generation and the next.” \n			\n			\n				\n				\n				\n				\n			\n				\n				\n			\n				\n				\n				\n				\n				\n				\n				\n				\n				\n				\n				\n				\n				\n				\n				\n				\n				\n				Theme\n			\n				\n				\n				\n				\n				More information is on the way! \n			\n				Register Now\n			\n				\n				\n				\n				\n				Please review our updated Payment and Refund Policy         \nEvent Staff\, Register Here! (Program Staff\, Cabin Leaders\, and Volunteers) \n			\n			\n				\n				\n				\n				\n				\n				\n				\n				\n				\n				\n			\n			\n				\n				\n				\n				\n			\n				\n				\n			\n				\n				\n				\n				\n				\n				\n				\n				\n				\n				\n				\n				\n				\n				\n				\n				\n				\n				Speaker: Geoff Safford\nMore information is Geoff is the lead pastor at Bethel Church in North Platte\, NE. His journeyincludes church planting in Iowa. Prior to planting churches\, Geoffserved in the church for nearly three decades in Student Ministries invarious church settings including Middle School\, Senior High andCollege ministries. He and his wife Deb are blessed to be the parents offour grown children and love being grandparents to three boys. Theyalso love spending time with their puppies\, Annie &amp; Indie. Geoff enjoysreading\, outdoor activities\, and vacations with Deb to beaches andmountains. He is an avid Nebraska Cornhusker fan.on the way! \n \n \n			\n			\n				\n				\n				\n				\n				\n				\n				\n				\n				\n				\n			\n			\n				\n				\n				\n				\n			\n				\n				\n			\n				\n				\n				\n				\n				\n				\n				\n				\n				\n				\n				\n				\n				\n				\n				\n				\n				\n				Check Out These Recent Highlight Videos *\n  \n			\n			\n				\n				\n				\n				\n			\n				\n				\n				\n				\n				\n				\n				\n				\n				\n				\n				\n				\n			\n			\n				\n				\n				\n				\n				\n				\n				\n				\n				\n				\n				\n			\n			\n				\n				\n				\n				\n			\n				\n				\n				\n				\n				\n				\n				\n				\n				\n				\n				*Highlight videos include footage from 2021 and 2019. Please note that activities featured in these videos change from camp to camp and all activities you see may not be included in all family camps. More activity information will be available when the schedule is published and is subject to change. \n  \nThe Value of Family Camp\n  \n			\n				\n				\n				\n				\n				\n				\n			\n			\n				\n				\n				\n				\n			\n				\n				\n			\n				\n				\n				\n				\n				\n				\n				\n				\n				\n				\n				\n				\n				\n				\n				\n				\n				\n				Pricing\nThe pricing for family camp is $195 per person\, plus the lodging-style based fee. 25% of total is a non-refundable deposit. Children 5 and under are free. \n			\n				\n				\n				\n				\n				\n					\n				\n				\n				\n				\n				\n					Lake House\n					$195/person\, plus\n				\n				\n					$545\n				\n				\n					Family Camp ProgramFamily Camp ActivitiesFamily Camp MealsStay in a house on the lakeFull kitchenLaundry MachinesBedding and TowelsTotal Spaces: 2\n				\n				\n			\n				\n				\n				\n				\n				\n					Motel-Style\n					$195/person\, plus\n				\n				\n					$395\n				\n				\n					Family Camp ProgramFamily Camp ActivitiesFamily Camp MealsPrivate RestroomBedding and TowelsTotal Spaces: 24\n				\n				\n			\n				\n				\n				\n				\n				\n					Dorm-Style\n					$195/person\, plus\n				\n				\n					$290\n				\n				\n					Family Camp ProgramFamily Camp ActivitiesFamily Camp MealsShared Hallway RestroomBring your own bedding\, towels\, and toiletriesTotal Spaces: 50\n				\n				\n			\n				\n			\n				\n				\n				\n				\n				Other Options\nBring-Your-Own RV – $195/person + $175 (housing charge per immediate family unit)Electrical hookup. Water and sewer in summer only.\nBring-Your-Own Tent – $195/person + $115 (housing charge per immediate family unit)\nNote: Both options above include access to our RV Bathhouse \n			\n			\n				\n				\n				\n				\n			\n				\n				\n				\n				\n				\n				\n				Register Now\n			\n				\n				\n				\n				\n				Please review our updated Payment and Refund Policy \nEvent Staff\, Register Here! (Program Staff\, Cabin Leaders\, and Volunteers)
URL:https://maranathacamp.org/events/family-camp-3-2023/
LOCATION:Maranatha Bible Camp\, 16800 E Maranatha Rd\, Maxwell\, NE\, 69151\, United States
CATEGORIES:Camps & Retreats,Kids & Families
ATTACH;FMTTYPE=image/jpeg:https://maranathacamp.org/wp-content/uploads/2021/10/2016-Family-Swimming-1600.jpg
END:VEVENT
END:VCALENDAR