BEGIN:VCALENDAR
VERSION:2.0
PRODID:-//Maranatha Camp - ECPv6.15.20//NONSGML v1.0//EN
CALSCALE:GREGORIAN
METHOD:PUBLISH
X-WR-CALNAME:Maranatha Camp
X-ORIGINAL-URL:https://maranathacamp.org
X-WR-CALDESC:Events for Maranatha Camp
REFRESH-INTERVAL;VALUE=DURATION:PT1H
X-Robots-Tag:noindex
X-PUBLISHED-TTL:PT1H
BEGIN:VTIMEZONE
TZID:America/Chicago
BEGIN:DAYLIGHT
TZOFFSETFROM:-0600
TZOFFSETTO:-0500
TZNAME:CDT
DTSTART:20230312T080000
END:DAYLIGHT
BEGIN:STANDARD
TZOFFSETFROM:-0500
TZOFFSETTO:-0600
TZNAME:CST
DTSTART:20231105T070000
END:STANDARD
BEGIN:DAYLIGHT
TZOFFSETFROM:-0600
TZOFFSETTO:-0500
TZNAME:CDT
DTSTART:20240310T080000
END:DAYLIGHT
BEGIN:STANDARD
TZOFFSETFROM:-0500
TZOFFSETTO:-0600
TZNAME:CST
DTSTART:20241103T070000
END:STANDARD
BEGIN:DAYLIGHT
TZOFFSETFROM:-0600
TZOFFSETTO:-0500
TZNAME:CDT
DTSTART:20250309T080000
END:DAYLIGHT
BEGIN:STANDARD
TZOFFSETFROM:-0500
TZOFFSETTO:-0600
TZNAME:CST
DTSTART:20251102T070000
END:STANDARD
END:VTIMEZONE
BEGIN:VEVENT
DTSTART;TZID=America/Chicago:20240426T160000
DTEND;TZID=America/Chicago:20240428T100000
DTSTAMP:20260421T113805
CREATED:20230923T153839Z
LAST-MODIFIED:20260126T205952Z
UID:3804-1714147200-1714298400@maranathacamp.org
SUMMARY:Dad and Kids Retreat 2024
DESCRIPTION:Register for Dad and Kids Retreat\nPricing is $50 per person\, plus a one-time lodging fee. \nLodging options: \nMotel-Style Room – Room with bedding and private restroom – $100 \nRV or Tent Space – Electricity available\, bathouse with showers nearby – $30 \nCommute – No overnight stays – $0 \n\n\n			\n				Register Now\n			\n			\n				\n				\n				\n				\n			\n				\n				\n			\n				\n				\n				\n				\n				\n				\n				\n				\n				\n				\n				\n				\n				\n				\n				\n				\n				\n				\n			\n			\n				\n				\n				\n				\n				\n				\n				\n				\n				\n				Speaker: Barry Holbrook\nBarry is the Executive Director of MBC. he has been in teaching ministries for 35 years! He has been married to Tanya for over 30 years and they have 3 sons and 7 grandkids. His passion is making the truths of God’s Word come alive!
URL:https://maranathacamp.org/events/dad-and-kids-retreat-2024/
LOCATION:Maranatha Bible Camp\, 16800 E Maranatha Rd\, Maxwell\, NE\, 69151\, United States
CATEGORIES:Camps & Retreats
ATTACH;FMTTYPE=image/jpeg:https://maranathacamp.org/wp-content/uploads/2023/12/2023-dad-and-kids-cover.jpg
END:VEVENT
END:VCALENDAR