BEGIN:VCALENDAR
VERSION:2.0
PRODID:-//Maranatha Camp - ECPv6.15.20//NONSGML v1.0//EN
CALSCALE:GREGORIAN
METHOD:PUBLISH
X-WR-CALNAME:Maranatha Camp
X-ORIGINAL-URL:https://maranathacamp.org
X-WR-CALDESC:Events for Maranatha Camp
REFRESH-INTERVAL;VALUE=DURATION:PT1H
X-Robots-Tag:noindex
X-PUBLISHED-TTL:PT1H
BEGIN:VTIMEZONE
TZID:America/Chicago
BEGIN:DAYLIGHT
TZOFFSETFROM:-0600
TZOFFSETTO:-0500
TZNAME:CDT
DTSTART:20240310T080000
END:DAYLIGHT
BEGIN:STANDARD
TZOFFSETFROM:-0500
TZOFFSETTO:-0600
TZNAME:CST
DTSTART:20241103T070000
END:STANDARD
BEGIN:DAYLIGHT
TZOFFSETFROM:-0600
TZOFFSETTO:-0500
TZNAME:CDT
DTSTART:20250309T080000
END:DAYLIGHT
BEGIN:STANDARD
TZOFFSETFROM:-0500
TZOFFSETTO:-0600
TZNAME:CST
DTSTART:20251102T070000
END:STANDARD
BEGIN:DAYLIGHT
TZOFFSETFROM:-0600
TZOFFSETTO:-0500
TZNAME:CDT
DTSTART:20260308T080000
END:DAYLIGHT
BEGIN:STANDARD
TZOFFSETFROM:-0500
TZOFFSETTO:-0600
TZNAME:CST
DTSTART:20261101T070000
END:STANDARD
END:VTIMEZONE
BEGIN:VEVENT
DTSTART;TZID=America/Chicago:20250411T160000
DTEND;TZID=America/Chicago:20250413T100000
DTSTAMP:20260422T021351
CREATED:20240523T191057Z
LAST-MODIFIED:20250407T161815Z
UID:4715-1744387200-1744538400@maranathacamp.org
SUMMARY:Dad and Kid's Retreat 2025
DESCRIPTION:Register Now\nPricing is $50 per person\, plus a one-time lodging fee. \nLodging options: \nMotel-Style Room – Room with bedding and private restroom – $100 \nDorm-Style Room – Adjacent rooms (if more than one needed) with 4 bunks and a shared hallway restroom. – $80 \nRV or Tent Space – Electricity available\, bathhouse with showers nearby – $30 \nCommute – No overnight stays – $0 \n			\n			\n				\n				\n				\n				\n			\n				\n				\n				\n				\n				\n				\n				Register Now\n			\n			\n				\n				\n				\n				\n			\n				\n				\n			\n				\n				\n				\n				\n				\n				\n				\n				\n				\n				\n				\n				\n				\n				\n				\n				\n				\n				Speaker: Jason Purdy\n Jason is the Youth Pastor at Kearney First Baptist Church in Kearney\, NE. He has served in full-time ministry for over 10 years and has a passion for serving young people and their families. He and his wife Erin have been married for nearly 25 yrs and have 5 children and will soon be welcoming their second grandchild!
URL:https://maranathacamp.org/events/dad-and-kids-retreat-2025/
LOCATION:Maranatha Bible Camp\, 16800 E Maranatha Rd\, Maxwell\, NE\, 69151\, United States
CATEGORIES:Camps & Retreats
ATTACH;FMTTYPE=image/png:https://maranathacamp.org/wp-content/uploads/2024/05/dad-kids-retreat-800-x-418-px-1920-x-1080-px.png
END:VEVENT
END:VCALENDAR