BEGIN:VCALENDAR
VERSION:2.0
PRODID:-//Maranatha Camp - ECPv6.15.20//NONSGML v1.0//EN
CALSCALE:GREGORIAN
METHOD:PUBLISH
X-ORIGINAL-URL:https://maranathacamp.org
X-WR-CALDESC:Events for Maranatha Camp
REFRESH-INTERVAL;VALUE=DURATION:PT1H
X-Robots-Tag:noindex
X-PUBLISHED-TTL:PT1H
BEGIN:VTIMEZONE
TZID:America/Chicago
BEGIN:DAYLIGHT
TZOFFSETFROM:-0600
TZOFFSETTO:-0500
TZNAME:CDT
DTSTART:20240310T080000
END:DAYLIGHT
BEGIN:STANDARD
TZOFFSETFROM:-0500
TZOFFSETTO:-0600
TZNAME:CST
DTSTART:20241103T070000
END:STANDARD
BEGIN:DAYLIGHT
TZOFFSETFROM:-0600
TZOFFSETTO:-0500
TZNAME:CDT
DTSTART:20250309T080000
END:DAYLIGHT
BEGIN:STANDARD
TZOFFSETFROM:-0500
TZOFFSETTO:-0600
TZNAME:CST
DTSTART:20251102T070000
END:STANDARD
BEGIN:DAYLIGHT
TZOFFSETFROM:-0600
TZOFFSETTO:-0500
TZNAME:CDT
DTSTART:20260308T080000
END:DAYLIGHT
BEGIN:STANDARD
TZOFFSETFROM:-0500
TZOFFSETTO:-0600
TZNAME:CST
DTSTART:20261101T070000
END:STANDARD
END:VTIMEZONE
BEGIN:VEVENT
DTSTART;TZID=America/Chicago:20250728T130000
DTEND;TZID=America/Chicago:20250801T130000
DTSTAMP:20260423T093617
CREATED:20240523T145818Z
LAST-MODIFIED:20251202T160319Z
UID:4733-1753707600-1754053200@maranathacamp.org
SUMMARY:Family Camp 2 – 2025
DESCRIPTION:“Family Camp is where parents and kids spend time together renewing their relationship with Jesus Christ. It’s where you lay the spiritual foundation you want to pass on to the next generation and the next.” \n			\n			\n				\n				\n				\n				\n			\n				\n				\n			\n				\n				\n				\n				\n				\n				\n				\n				\n				\n				\n				\n				\n				\n				\n				\n				\n				\n				\n			\n			\n				\n				\n				\n				\n				\n				\n				\n				\n				\n				Speaker\nNate Tyler \n has been in ministry\, married and raising a family for more than 20 years and has a passion for the Word of God and for families to experience the presence of God and the beauty of relationship together.  With a transparent teaching style that encourages reflection and contemplation\, Nate aspires for families to wrestle with why and how we engage in the mission of God\, for the glory of God\, through the Spirit of God in our lives and family ministry.  He loves reading\, outdoor activities of any kind and board games.  He is stoked to return to family camp\, launch his kids off the blob\, enjoy some sweet treats from the sweet shop and worshipping together with other families who love the Lord and want to live out His call through their families. \n			\n			\n				\n				\n				\n				\n			\n				\n				\n			\n				\n				\n				\n				\n				\n				\n				\n				\n				\n				\n				\n				\n				\n				\n				\n				\n				\n				Pricing\nThe pricing for family camp is $195 per person\, plus the lodging-style based fee. Children 5 and under are free. \n			\n				\n				\n				\n				\n				\n					\n				\n				\n				\n				\n				\n					Lake House*\n					$195/person\, plus\n				\n				\n					$545\n				\n				\n					Family Camp ProgramFamily Camp ActivitiesFamily Camp MealsStay in a house on the lakeFull kitchenLaundry MachinesBedding and TowelsTotal Spaces: 2\n				\n				\n			\n				\n				\n				\n				\n				\n					Motel-Style\n					$195/person\, plus\n				\n				\n					$395\n				\n				\n					Family Camp ProgramFamily Camp ActivitiesFamily Camp MealsPrivate RestroomBedding and TowelsTotal Spaces: 16\n				\n				\n			\n				\n				\n				\n				\n				\n					Dorm-Style\n					$195/person\, plus\n				\n				\n					$290\n				\n				\n					Family Camp ProgramFamily Camp ActivitiesFamily Camp MealsShared Hallway RestroomBring your own bedding\, towels\, and toiletriesTotal Spaces: 40\n				\n				\n			\n				\n			\n				\n				\n				\n				\n				*Founder’s Home East is an exception\, renting at the rate of $395\, and not including a kitchen or laundry. More details available during reservation process \nOther Options\nBring-Your-Own RV – $195/person + $175 (housing charge)\nElectrical hookup. Water and sewer in summer only. \n \nBring-Your-Own Tent – $195/person + $115 (housing charge)\n			\n			\n				\n				\n				\n				\n			\n				\n				\n			\n				\n				\n				\n				\n				\n				\n				\n				\n				\n				\n				\n				\n				\n				\n				\n				\n				\n				Registration\n			\n				Register Now
URL:https://maranathacamp.org/events/family-camp-2-2025/
LOCATION:Maranatha Bible Camp\, 16800 E Maranatha Rd\, Maxwell\, NE\, 69151\, United States
CATEGORIES:Camps & Retreats
ATTACH;FMTTYPE=image/jpeg:https://maranathacamp.org/wp-content/uploads/2023/10/dad-and-kids-at-lake-maranatha.jpg
END:VEVENT
END:VCALENDAR