BEGIN:VCALENDAR
VERSION:2.0
PRODID:-//Maranatha Camp - ECPv6.15.20//NONSGML v1.0//EN
CALSCALE:GREGORIAN
METHOD:PUBLISH
X-ORIGINAL-URL:https://maranathacamp.org
X-WR-CALDESC:Events for Maranatha Camp
REFRESH-INTERVAL;VALUE=DURATION:PT1H
X-Robots-Tag:noindex
X-PUBLISHED-TTL:PT1H
BEGIN:VTIMEZONE
TZID:America/Chicago
BEGIN:DAYLIGHT
TZOFFSETFROM:-0600
TZOFFSETTO:-0500
TZNAME:CDT
DTSTART:20250309T080000
END:DAYLIGHT
BEGIN:STANDARD
TZOFFSETFROM:-0500
TZOFFSETTO:-0600
TZNAME:CST
DTSTART:20251102T070000
END:STANDARD
BEGIN:DAYLIGHT
TZOFFSETFROM:-0600
TZOFFSETTO:-0500
TZNAME:CDT
DTSTART:20260308T080000
END:DAYLIGHT
BEGIN:STANDARD
TZOFFSETFROM:-0500
TZOFFSETTO:-0600
TZNAME:CST
DTSTART:20261101T070000
END:STANDARD
BEGIN:DAYLIGHT
TZOFFSETFROM:-0600
TZOFFSETTO:-0500
TZNAME:CDT
DTSTART:20270314T080000
END:DAYLIGHT
BEGIN:STANDARD
TZOFFSETFROM:-0500
TZOFFSETTO:-0600
TZNAME:CST
DTSTART:20271107T070000
END:STANDARD
END:VTIMEZONE
BEGIN:VEVENT
DTSTART;TZID=America/Chicago:20260116T160000
DTEND;TZID=America/Chicago:20260118T230000
DTSTAMP:20260423T004919
CREATED:20251125T181627Z
LAST-MODIFIED:20260115T150510Z
UID:6331-1768579200-1768777200@maranathacamp.org
SUMMARY:Marriage Retreat 2026
DESCRIPTION:“This retreat is an opportunity to pause\, reflect\, and rediscover the joy of walking through life together — as partners\, friends\, and followers of Christ.”\n			\n			\n				\n				\n				\n				\n			\n				\n				\n			\n				\n				\n				\n				\n				\n				\n				\n				\n				\n				\n				\n				\n				\n				\n				\n				\n				\n				Theme: New Year – New Vision \nAs 2026 begins\, let’s carve out time to intentionally quiet down and hear God speak life and hope into our marriages. Over the weekend\, we’ll delight in the Word and utilize tools to facilitate conversations to reflect on our marriage health. Not simply an information dump\, there will be plenty of time for each couple to talk\, laugh (and maybe cry)\, and play. We’ll take stock of where we’ve been and dream about where we’d love to go together. It’s a new year and we’re praying we will all receive refreshing\, new vision for God’s design and desire for our relationship with our spouse. \n			\n			\n				\n				\n				\n				\n			\n				\n				\n			\n				\n				\n				\n				\n				\n				\n				\n				\n				\n				\n				\n				\n				\n				\n				\n				\n				\n				\n			\n			\n				\n				\n				\n				\n				\n				\n				\n				\n				\n				Speakers: John and Jessica Stone\nJohn and Jessica aren’t marriage experts\, but by the grace of God have managed to stay married for 30 years. They’ve learned a few things along the way and believe that following Jesus is the only hope for lasting love. Along the way\, they’ve raised 3 adult sons and are currently raising their 9.5 (don’t forget the half!) year old daughter. \nJohn is just starting his 15th year as the Lead Pastor of North Platte Berean Church\, and Jessica\, while unpaid\, serves the community of North Platte in innumerable ways. \nJohn and Jessica enjoyed playing pickleball until John hurt his wrist trying to return one of Jessica’s shots. They still enjoy road trips together\, playing board games with their daughter\, and watching Husker volleyball domination (really all Husker sports… as long as they’re winning).\n			\n			\n				\n				\n				\n				\n			\n				\n				\n			\n				\n				\n				\n				\n				\n				\n				\n				\n				\n				\n				\n				\n				\n				\n				\n				\n				\n				Pricing\nThe pricing options begin at $115 per couple\, plus a lodging choice fee. \n			\n				\n				\n				\n				\n				\n					\n				\n				\n				\n				\n				\n					Fasse House\n					$700 per couple/group\n				\n				\n					$700\n				\n				\n					Program\, Meals\, Activities3 Bedrooms (2 queen\, 1 twin with twin trundle)1.5 BathLiving space\, laundry\, & kitchenBedding and towels providedShareable with flat-fee upon request\n				\n				\n			\n				\n				\n				\n				\n				\n					Selah House\n					$1400 per couple/group\n				\n				\n					$1400\n				\n				\n					Program\, Meals\, Activities4 bedrooms1.5 BathroomsLarge living spacesAcross the lakeBedding and towels providedShareable with flat-fee upon request\n				\n				\n			\n				\n				\n				\n				\n				\n					Motel-Style\n					$335 per couple\n				\n				\n					$335\n				\n				\n					Program\, Meals\, ActivitiesPrivate room with queen bed plus extra twin bunksPrivate 3/4 bathBeding and towls are provided\n				\n				\n			\n				\n			\n				\n				\n				\n				\n				Other Registration Options \nCommute – $115 per couple \nOther Lakeside Houses may be offered/available during registration process \n			\n				Register Now
URL:https://maranathacamp.org/events/marriage-retreat/
LOCATION:Maranatha Bible Camp\, 16800 E Maranatha Rd\, Maxwell\, NE\, 69151\, United States
CATEGORIES:Camps & Retreats
ATTACH;FMTTYPE=image/jpeg:https://maranathacamp.org/wp-content/uploads/2022/03/2022-marriage-conference-cover-couple-lake.jpg
END:VEVENT
END:VCALENDAR