BEGIN:VCALENDAR
VERSION:2.0
PRODID:-//Maranatha Camp - ECPv6.15.20//NONSGML v1.0//EN
CALSCALE:GREGORIAN
METHOD:PUBLISH
X-ORIGINAL-URL:https://maranathacamp.org
X-WR-CALDESC:Events for Maranatha Camp
REFRESH-INTERVAL;VALUE=DURATION:PT1H
X-Robots-Tag:noindex
X-PUBLISHED-TTL:PT1H
BEGIN:VTIMEZONE
TZID:America/Chicago
BEGIN:DAYLIGHT
TZOFFSETFROM:-0600
TZOFFSETTO:-0500
TZNAME:CDT
DTSTART:20220313T080000
END:DAYLIGHT
BEGIN:STANDARD
TZOFFSETFROM:-0500
TZOFFSETTO:-0600
TZNAME:CST
DTSTART:20221106T070000
END:STANDARD
BEGIN:DAYLIGHT
TZOFFSETFROM:-0600
TZOFFSETTO:-0500
TZNAME:CDT
DTSTART:20230312T080000
END:DAYLIGHT
BEGIN:STANDARD
TZOFFSETFROM:-0500
TZOFFSETTO:-0600
TZNAME:CST
DTSTART:20231105T070000
END:STANDARD
BEGIN:DAYLIGHT
TZOFFSETFROM:-0600
TZOFFSETTO:-0500
TZNAME:CDT
DTSTART:20240310T080000
END:DAYLIGHT
BEGIN:STANDARD
TZOFFSETFROM:-0500
TZOFFSETTO:-0600
TZNAME:CST
DTSTART:20241103T070000
END:STANDARD
END:VTIMEZONE
BEGIN:VEVENT
DTSTART;TZID=America/Chicago:20231008T090000
DTEND;TZID=America/Chicago:20231008T150000
DTSTAMP:20260421T102149
CREATED:20221027T215502Z
LAST-MODIFIED:20230406T174137Z
UID:2899-1696755600-1696777200@maranathacamp.org
SUMMARY:Sporting Clay Shoot
DESCRIPTION:Sporting Clays\nEither 7 or 8 shooting stations are arranged in various locations on the course. Each shooter will shoot at a total of 50 rocks from inside these stations. Shooters form groups of not more than 5 who shoot together\, moving from station to station until they have completed the course. Each station has two completely different ‘presentations’ which are thrown from remote controlled ‘throwers’ but all have an instruction card telling: \na) how many rocks will be thrown (usually either 6 or 8) \nb) describing the ‘presentation’ of the rocks (i.e. left to right\, incoming\, overhead\, rabbit\, etc. \nc) whether the rocks will be thrown as ‘true pairs’\, ‘report pairs’. \nWhen a shooter is ready\, he steps into the station (gun unloaded)\, chambers his shells\, takes his gun off ‘Safe’\, then calls for the rocks by saying ‘Pull’. When the shooter has fired his 6-8 shells he immediately leaves the station (gun in ‘Safe’ mode and unloaded) and the next shooter (who is to be ready and waiting outside of the station with unloaded gun in hand) repeats the process\, shooters moving steadily in and out of the station so as not to slow up the next group of shooters coming from the previous station. \nSporting Clays – $20 (50 rocks)Skeet – $10 (25 rocks)5 Stand – $10 (25 rocks)Lewis Class Tourney – $5 (optional) \nBreakfast\, BBQ lunch\, and refreshments available.No alcoholic beverages on grounds.Eye and ear protection required.Shells not available.
URL:https://maranathacamp.org/events/sporting-clay-shoot-2023-10-08/
LOCATION:Powder Creek Sports\, 16800 E Maranatha Rd\, Maxwell\, NE\, 69151\, United States
CATEGORIES:Community Events
ATTACH;FMTTYPE=image/jpeg:https://maranathacamp.org/wp-content/uploads/2021/08/clay_shoots-e1632403167311.jpg
END:VEVENT
BEGIN:VEVENT
DTSTART;TZID=America/Chicago:20231013T183000
DTEND;TZID=America/Chicago:20231013T213000
DTSTAMP:20260421T102149
CREATED:20230907T211258Z
LAST-MODIFIED:20231003T205130Z
UID:3721-1697221800-1697232600@maranathacamp.org
SUMMARY:Skate Night
DESCRIPTION:Join Us!\nThe staff of Maranatha Camp & Retreat Center invites your family to Family Skate Night! Our gym transforms into a roller skating rink\, and we have several other activities for the whole family to enjoy! \n			\n			\n				\n				\n				\n				\n			\n				\n				\n				\n				\n				\n				\n				\n				\n				\n				\n				Skating\nDon’t have skates? No worries! We are stocked with sizes from toddler clip-ons to men’s 13 in roller skates and blades. Some sizes in roller blades have limited availability. We also have a small number of skate trainers/walkers available. There is a $1 deposit for checking out a pair of skates (cash preferred). Please keep track of your borrowed skates- the $1 deposit is returned per pair of skates to the guest returning the skates. \n\n			\n			\n				\n				\n				\n				\n				\n				\n				\n				\n				\n				\n			\n			\n				\n				\n				\n				\n			\n				\n				\n				\n				\n				\n				\n				\n				\n				\n				\n				\n			\n			\n				\n				\n				\n				\n				\n				\n				\n				\n				\n				Other Activities\nAt the back of the gym\, our 30 ft. climbing wall will be open and ready for scaling. Through the hall to the south\, the Maranatha Center houses a bouncy castle\, games (including 9-square-in-the-air and gaga ball)\, and a large space for kids to run around and play. \n			\n			\n				\n				\n				\n				\n			\n				\n				\n				\n				\n				\n				\n				\n				\n				\n				\n				Snacks and Coffee\nRefreshments are available for purchase at the snack bar in the gym\, and delicious coffee drinks at our coffee shop. \n			\n			\n				\n				\n				\n				\n				\n				\n				\n				\n				\n				\n			\n			\n				\n				\n				\n				\n			\n				\n				\n				\n				\n				\n				\n				\n				\n				\n				\n				Entrance Fee\nThe entrance fee applies to all guests attending the event. \nAges 4 and under: Free \nAges 5 and up: $8/person \nAges 65+: $5/person \nNon-Participant: Free (no activities\, paid concessions available) \n  \nWhen You Arrive\nIf you need information on getting to camp\, please see our Visitor Information page. \nOnce you arrive\, please park in the main parking lot. Then head around to the south side of the large building on the east side of the parking lot (towards the lake). The entrance for this event will be at the two sets of double doors with the awning overhead (entrance to "The Center"). \n 
URL:https://maranathacamp.org/events/skate-night-2023-10-13/
LOCATION:Maranatha Bible Camp\, 16800 E Maranatha Rd\, Maxwell\, NE\, 69151\, United States
CATEGORIES:Community Events,Individuals & Couples,Kids & Families
ATTACH;FMTTYPE=image/jpeg:https://maranathacamp.org/wp-content/uploads/2021/09/skate-night-cover.jpg
END:VEVENT
BEGIN:VEVENT
DTSTART;TZID=America/Chicago:20231027T183000
DTEND;TZID=America/Chicago:20231027T213000
DTSTAMP:20260421T102149
CREATED:20230907T212009Z
LAST-MODIFIED:20231024T225654Z
UID:3730-1698431400-1698442200@maranathacamp.org
SUMMARY:Skate Night
DESCRIPTION:Join Us!\nThe staff of Maranatha Camp & Retreat Center invites your family to Family Skate Night! Our gym transforms into a roller skating rink\, and we have several other activities for the whole family to enjoy! \n			\n			\n				\n				\n				\n				\n			\n				\n				\n				\n				\n				\n				\n				\n				\n				\n				\n				Skating\nDon’t have skates? No worries! We are stocked with sizes from toddler clip-ons to men’s 13 in roller skates and blades. Some sizes in roller blades have limited availability. We also have a small number of skate trainers/walkers available. There is a $1 deposit for checking out a pair of skates (cash preferred). Please keep track of your borrowed skates- the $1 deposit is returned per pair of skates to the guest returning the skates. \n\n			\n			\n				\n				\n				\n				\n				\n				\n				\n				\n				\n				\n			\n			\n				\n				\n				\n				\n			\n				\n				\n				\n				\n				\n				\n				\n				\n				\n				\n				\n			\n			\n				\n				\n				\n				\n				\n				\n				\n				\n				\n				Other Activities\nAt the back of the gym\, our 30 ft. climbing wall will be open and ready for scaling. Through the hall to the south\, the Maranatha Center houses a bouncy castle\, games (including 9-square-in-the-air and gaga ball)\, and a large space for kids to run around and play. \n			\n			\n				\n				\n				\n				\n			\n				\n				\n				\n				\n				\n				\n				\n				\n				\n				\n				Snacks and Coffee\nRefreshments are available for purchase at the snack bar in the gym\, and delicious coffee drinks at our coffee shop. \n			\n			\n				\n				\n				\n				\n				\n				\n				\n				\n				\n				\n			\n			\n				\n				\n				\n				\n			\n				\n				\n				\n				\n				\n				\n				\n				\n				\n				\n				Entrance Fee\nThe entrance fee applies to all guests attending the event. \nAges 4 and under: Free \nAges 5 and up: $8/person \nAges 65+: $5/person \nNon-Participant: Free (no activities\, paid concessions available) \n  \nWhen You Arrive\nIf you need information on getting to camp\, please see our Visitor Information page. \nOnce you arrive\, please park in the main parking lot. Then head around to the south side of the large building on the east side of the parking lot (towards the lake). The entrance for this event will be at the two sets of double doors with the awning overhead (entrance to "The Center"). \n 
URL:https://maranathacamp.org/events/skate-night-2023-10-27/
LOCATION:Maranatha Bible Camp\, 16800 E Maranatha Rd\, Maxwell\, NE\, 69151\, United States
CATEGORIES:Community Events,Individuals & Couples,Kids & Families
ATTACH;FMTTYPE=image/jpeg:https://maranathacamp.org/wp-content/uploads/2021/09/skate-night-cover.jpg
END:VEVENT
END:VCALENDAR