BEGIN:VCALENDAR
VERSION:2.0
PRODID:-//Maranatha Camp - ECPv6.15.20//NONSGML v1.0//EN
CALSCALE:GREGORIAN
METHOD:PUBLISH
X-WR-CALNAME:Maranatha Camp
X-ORIGINAL-URL:https://maranathacamp.org
X-WR-CALDESC:Events for Maranatha Camp
REFRESH-INTERVAL;VALUE=DURATION:PT1H
X-Robots-Tag:noindex
X-PUBLISHED-TTL:PT1H
BEGIN:VTIMEZONE
TZID:America/Chicago
BEGIN:DAYLIGHT
TZOFFSETFROM:-0600
TZOFFSETTO:-0500
TZNAME:CDT
DTSTART:20230312T080000
END:DAYLIGHT
BEGIN:STANDARD
TZOFFSETFROM:-0500
TZOFFSETTO:-0600
TZNAME:CST
DTSTART:20231105T070000
END:STANDARD
BEGIN:DAYLIGHT
TZOFFSETFROM:-0600
TZOFFSETTO:-0500
TZNAME:CDT
DTSTART:20240310T080000
END:DAYLIGHT
BEGIN:STANDARD
TZOFFSETFROM:-0500
TZOFFSETTO:-0600
TZNAME:CST
DTSTART:20241103T070000
END:STANDARD
BEGIN:DAYLIGHT
TZOFFSETFROM:-0600
TZOFFSETTO:-0500
TZNAME:CDT
DTSTART:20250309T080000
END:DAYLIGHT
BEGIN:STANDARD
TZOFFSETFROM:-0500
TZOFFSETTO:-0600
TZNAME:CST
DTSTART:20251102T070000
END:STANDARD
END:VTIMEZONE
BEGIN:VEVENT
DTSTART;TZID=America/Chicago:20240810T120000
DTEND;TZID=America/Chicago:20240810T173000
DTSTAMP:20260421T123244
CREATED:20240301T203347Z
LAST-MODIFIED:20250320T044747Z
UID:4324-1723291200-1723311000@maranathacamp.org
SUMMARY:Scholarship Clay Shoot
DESCRIPTION:Scholarship Shoot\nEach year over 5\,000 campers attend at least one of the events sponsored by Maranatha Bible Camp (MBC). Some campers’ families can’t afford to pay the full cost of registration\, but MBC’s goal is that nobody be turned away due to lack of resources. MBC’s Scholarship Fund is used each year to help campers with scholarships until those funds are exhausted. The annual Powder Creek Sports Scholarship Shoot has raised up to $16\,000 per year. Every dollar raised goes to scholarships to  create opportunities for kids to participate in a Christ-centered\, life changing camp.\n==============================\nEach shooter is asked to raise a minimum of $250 for the Scholarship Fund. Many shooters raise $500 or more. Bring your own team of four shooters\, if you don’t have a team we’ll assign you to one.\n–Terry Jensen\, Director (308) 870-2745 \nDownload The Brochure \nDownload The Fundraising Letter \n			\n			\n				\n				\n				\n				\n			\n				\n				\n			\n				\n				\n				\n				\n				\n				\n				\n				\n				\n				\n				\n				\n				\n				\n				\n				\n				\n				The Course\nFrom 7 to 10 shooting stations are arranged in various locations on the course. Each shooter will shoot at a total of 100 rocks from inside these stations. Teams are made up of 4 shooters who move from station to station until they have completed the course. \nShooting Stations\nEach station has two completely different ‘presentations’ which are thrown from remote controlled ‘throwers’ but all have an instruction card telling: \n\nhow many rocks will be thrown (usually 10 to 12)\ndescribing the ‘presentation’ of the rocks (i.e. left to right\, incoming\, overhead\, rabbit\, etc.\nwhether the rocks will be thrown as ‘true pairs’\, ‘report pairs’.\n\nWhen a shooter is ready\, he steps into the station (gun unloaded)\, chambers his shells\, takes his gun off ‘Safe’\, then calls for the rocks by saying ‘Pull’. When the shooter has fired his 10-12 shells he immediately leaves the station (gun in ‘Safe’ mode and unloaded) and the next shooter (who is to be ready and waiting outside of the station with unloaded gun in hand) repeats the process\, shooters moving steadily in and out of the station so as not to slow up the next group of shooters coming from the previous station. \n			\n			\n				\n				\n				\n				\n			\n				\n				\n				\n				\n				\n				\n				\n				\n				\n				\n				Pricing\nAll event expenses are paid by the shooting station sponsors. (Shells Provided)No alcoholic beverages on grounds.Eye and ear protection required. \n			\n			\n				\n				\n				\n				\n				\n				\n				\n				\n				\n				Schedule\n12:00pm • Lunch (burgers)1:00pm   • Scholarship Shoot begins4:00pm   • Brisket / Awards / Presentations (ON SITE)5:30pm   • Thank You / Adjourn \nOther Resources\nStation Sponsor Details \nStation Sponsor List
URL:https://maranathacamp.org/events/scholarship-clay-shoot-2024-08-10/
LOCATION:Powder Creek Sports\, 16800 E Maranatha Rd\, Maxwell\, NE\, 69151\, United States
CATEGORIES:Community Events
ATTACH;FMTTYPE=image/jpeg:https://maranathacamp.org/wp-content/uploads/2022/03/clay-shoot-camo-rifle-with-pcs-logo.jpg
END:VEVENT
BEGIN:VEVENT
DTSTART;TZID=America/Chicago:20240811T090000
DTEND;TZID=America/Chicago:20240811T150000
DTSTAMP:20260421T123244
CREATED:20240325T204657Z
LAST-MODIFIED:20240325T204701Z
UID:4475-1723366800-1723388400@maranathacamp.org
SUMMARY:Sporting Clay Shoot
DESCRIPTION:Sporting Clays\nEither 7 or 8 shooting stations are arranged in various locations on the course. Each shooter will shoot at a total of 50 rocks from inside these stations. Shooters form groups of not more than 5 who shoot together\, moving from station to station until they have completed the course. Each station has two completely different ‘presentations’ which are thrown from remote controlled ‘throwers’ but all have an instruction card telling: \na) how many rocks will be thrown (usually either 6 or 8) \nb) describing the ‘presentation’ of the rocks (i.e. left to right\, incoming\, overhead\, rabbit\, etc. \nc) whether the rocks will be thrown as ‘true pairs’\, ‘report pairs’. \nWhen a shooter is ready\, he steps into the station (gun unloaded)\, chambers his shells\, takes his gun off ‘Safe’\, then calls for the rocks by saying ‘Pull’. When the shooter has fired his 6-8 shells he immediately leaves the station (gun in ‘Safe’ mode and unloaded) and the next shooter (who is to be ready and waiting outside of the station with unloaded gun in hand) repeats the process\, shooters moving steadily in and out of the station so as not to slow up the next group of shooters coming from the previous station. \nSporting Clays – $20 (50 rocks)Skeet – $10 (25 rocks)5 Stand – $10 (25 rocks)Lewis Class Tourney – $5 (optional) \nBreakfast\, BBQ lunch\, and refreshments available.No alcoholic beverages on grounds.Eye and ear protection required.Shells not available.
URL:https://maranathacamp.org/events/sporting-clay-shoot-2024-08-11/
LOCATION:Powder Creek Sports\, 16800 E Maranatha Rd\, Maxwell\, NE\, 69151\, United States
CATEGORIES:Community Events
ATTACH;FMTTYPE=image/jpeg:https://maranathacamp.org/wp-content/uploads/2021/08/clay_shoots-e1632403167311.jpg
END:VEVENT
END:VCALENDAR