BEGIN:VCALENDAR
VERSION:2.0
PRODID:-//Maranatha Camp - ECPv6.15.20//NONSGML v1.0//EN
CALSCALE:GREGORIAN
METHOD:PUBLISH
X-WR-CALNAME:Maranatha Camp
X-ORIGINAL-URL:https://maranathacamp.org
X-WR-CALDESC:Events for Maranatha Camp
REFRESH-INTERVAL;VALUE=DURATION:PT1H
X-Robots-Tag:noindex
X-PUBLISHED-TTL:PT1H
BEGIN:VTIMEZONE
TZID:America/Chicago
BEGIN:DAYLIGHT
TZOFFSETFROM:-0600
TZOFFSETTO:-0500
TZNAME:CDT
DTSTART:20230312T080000
END:DAYLIGHT
BEGIN:STANDARD
TZOFFSETFROM:-0500
TZOFFSETTO:-0600
TZNAME:CST
DTSTART:20231105T070000
END:STANDARD
BEGIN:DAYLIGHT
TZOFFSETFROM:-0600
TZOFFSETTO:-0500
TZNAME:CDT
DTSTART:20240310T080000
END:DAYLIGHT
BEGIN:STANDARD
TZOFFSETFROM:-0500
TZOFFSETTO:-0600
TZNAME:CST
DTSTART:20241103T070000
END:STANDARD
BEGIN:DAYLIGHT
TZOFFSETFROM:-0600
TZOFFSETTO:-0500
TZNAME:CDT
DTSTART:20250309T080000
END:DAYLIGHT
BEGIN:STANDARD
TZOFFSETFROM:-0500
TZOFFSETTO:-0600
TZNAME:CST
DTSTART:20251102T070000
END:STANDARD
END:VTIMEZONE
BEGIN:VEVENT
DTSTART;TZID=America/Chicago:20240914T130000
DTEND;TZID=America/Chicago:20240914T170000
DTSTAMP:20260421T141747
CREATED:20240814T185411Z
LAST-MODIFIED:20240821T200132Z
UID:4968-1726318800-1726333200@maranathacamp.org
SUMMARY:Family Fun Day 9/14
DESCRIPTION:You are Invited\nHead out to Maranatha for a late-summer family-fun afternoon. Please park in the main parking lot. A wagon-shuttle will be provided as an alternative to walking to the activity area. \n			\n			\n				\n				\n				\n				\n			\n				\n				\n				\n				\n				\n				\n				\n				\n				\n				\n				Activities\nArchery\, Disc Golf\, Fishing (catch-and-release)\, Putt Putt Golf\, Sand Volleyball\, Zipline are included in the admission price of $8.00. Children 4 and under are free. \nNo meals served\, but a snack cart will be available (priced per-item).
URL:https://maranathacamp.org/events/family-fun-day-2024-09-14/
LOCATION:Maranatha Bible Camp\, 16800 E Maranatha Rd\, Maxwell\, NE\, 69151\, United States
CATEGORIES:Community Events,Kids & Families
ATTACH;FMTTYPE=image/png:https://maranathacamp.org/wp-content/uploads/2024/08/family-fun-days-boy-disc-throw-inv.png
END:VEVENT
BEGIN:VEVENT
DTSTART;TZID=America/Chicago:20240928T130000
DTEND;TZID=America/Chicago:20240928T170000
DTSTAMP:20260421T141747
CREATED:20240814T192341Z
LAST-MODIFIED:20240821T200218Z
UID:4985-1727528400-1727542800@maranathacamp.org
SUMMARY:Family Fun Day 9/28
DESCRIPTION:You are Invited\nHead out to Maranatha for a late-summer family-fun afternoon. Please park in the main parking lot. A wagon-shuttle will be provided as an alternative to walking to the activity area. \n			\n			\n				\n				\n				\n				\n			\n				\n				\n				\n				\n				\n				\n				\n				\n				\n				\n				Activities\nArchery\, Disc Golf\, Fishing (catch-and-release)\, Putt Putt Golf\, Sand Volleyball\, Zipline are included in the admission price of $8.00. Children 4 and under are free. \nNo meals served\, but a snack cart will be available (priced per-item).
URL:https://maranathacamp.org/events/family-fun-day-2024-09-28/
LOCATION:Maranatha Bible Camp\, 16800 E Maranatha Rd\, Maxwell\, NE\, 69151\, United States
CATEGORIES:Community Events,Kids & Families
ATTACH;FMTTYPE=image/png:https://maranathacamp.org/wp-content/uploads/2024/08/family-fun-days-boy-disc-throw-inv.png
END:VEVENT
END:VCALENDAR