BEGIN:VCALENDAR
VERSION:2.0
PRODID:-//Maranatha Camp - ECPv6.15.20//NONSGML v1.0//EN
CALSCALE:GREGORIAN
METHOD:PUBLISH
X-ORIGINAL-URL:https://maranathacamp.org
X-WR-CALDESC:Events for Maranatha Camp
REFRESH-INTERVAL;VALUE=DURATION:PT1H
X-Robots-Tag:noindex
X-PUBLISHED-TTL:PT1H
BEGIN:VTIMEZONE
TZID:America/Chicago
BEGIN:DAYLIGHT
TZOFFSETFROM:-0600
TZOFFSETTO:-0500
TZNAME:CDT
DTSTART:20230312T080000
END:DAYLIGHT
BEGIN:STANDARD
TZOFFSETFROM:-0500
TZOFFSETTO:-0600
TZNAME:CST
DTSTART:20231105T070000
END:STANDARD
BEGIN:DAYLIGHT
TZOFFSETFROM:-0600
TZOFFSETTO:-0500
TZNAME:CDT
DTSTART:20240310T080000
END:DAYLIGHT
BEGIN:STANDARD
TZOFFSETFROM:-0500
TZOFFSETTO:-0600
TZNAME:CST
DTSTART:20241103T070000
END:STANDARD
BEGIN:DAYLIGHT
TZOFFSETFROM:-0600
TZOFFSETTO:-0500
TZNAME:CDT
DTSTART:20250309T080000
END:DAYLIGHT
BEGIN:STANDARD
TZOFFSETFROM:-0500
TZOFFSETTO:-0600
TZNAME:CST
DTSTART:20251102T070000
END:STANDARD
END:VTIMEZONE
BEGIN:VEVENT
DTSTART;TZID=America/Chicago:20241005T130000
DTEND;TZID=America/Chicago:20241005T170000
DTSTAMP:20260421T154449
CREATED:20240814T192527Z
LAST-MODIFIED:20240821T200312Z
UID:4993-1728133200-1728147600@maranathacamp.org
SUMMARY:Family Fun Day 10/5
DESCRIPTION:You are Invited\nHead out to Maranatha for a late-summer family-fun afternoon. Please park in the main parking lot. A wagon-shuttle will be provided as an alternative to walking to the activity area. \n			\n			\n				\n				\n				\n				\n			\n				\n				\n				\n				\n				\n				\n				\n				\n				\n				\n				Activities\nArchery\, Disc Golf\, Fishing (catch-and-release)\, Putt Putt Golf\, Sand Volleyball\, Zipline are included in the admission price of $8.00. Children 4 and under are free. \nNo meals served\, but a snack cart will be available (priced per-item).
URL:https://maranathacamp.org/events/family-fun-day-2024-10-05/
LOCATION:Maranatha Bible Camp\, 16800 E Maranatha Rd\, Maxwell\, NE\, 69151\, United States
CATEGORIES:Community Events,Kids & Families
ATTACH;FMTTYPE=image/png:https://maranathacamp.org/wp-content/uploads/2024/08/family-fun-days-boy-disc-throw-inv.png
END:VEVENT
BEGIN:VEVENT
DTSTART;TZID=America/Chicago:20241013T090000
DTEND;TZID=America/Chicago:20241013T153000
DTSTAMP:20260421T154449
CREATED:20240301T203728Z
LAST-MODIFIED:20240301T203837Z
UID:4333-1728810000-1728833400@maranathacamp.org
SUMMARY:Sporting Clay Shoot
DESCRIPTION:Sporting Clays\nEither 7 or 8 shooting stations are arranged in various locations on the course. Each shooter will shoot at a total of 50 rocks from inside these stations. Shooters form groups of not more than 5 who shoot together\, moving from station to station until they have completed the course. Each station has two completely different ‘presentations’ which are thrown from remote controlled ‘throwers’ but all have an instruction card telling: \na) how many rocks will be thrown (usually either 6 or 8) \nb) describing the ‘presentation’ of the rocks (i.e. left to right\, incoming\, overhead\, rabbit\, etc. \nc) whether the rocks will be thrown as ‘true pairs’\, ‘report pairs’. \nWhen a shooter is ready\, he steps into the station (gun unloaded)\, chambers his shells\, takes his gun off ‘Safe’\, then calls for the rocks by saying ‘Pull’. When the shooter has fired his 6-8 shells he immediately leaves the station (gun in ‘Safe’ mode and unloaded) and the next shooter (who is to be ready and waiting outside of the station with unloaded gun in hand) repeats the process\, shooters moving steadily in and out of the station so as not to slow up the next group of shooters coming from the previous station. \nSporting Clays – $20 (50 rocks)Skeet – $10 (25 rocks)5 Stand – $10 (25 rocks)Lewis Class Tourney – $5 (optional) \nBreakfast\, BBQ lunch\, and refreshments available.No alcoholic beverages on grounds.Eye and ear protection required.Shells not available.
URL:https://maranathacamp.org/events/sporting-clay-shoot-2024-10-13/
LOCATION:Powder Creek Sports\, 16800 E Maranatha Rd\, Maxwell\, NE\, 69151\, United States
CATEGORIES:Community Events
ATTACH;FMTTYPE=image/jpeg:https://maranathacamp.org/wp-content/uploads/2021/08/clay_shoots-e1632403167311.jpg
END:VEVENT
BEGIN:VEVENT
DTSTART;TZID=America/Chicago:20241019T130000
DTEND;TZID=America/Chicago:20241019T170000
DTSTAMP:20260421T154449
CREATED:20240814T192718Z
LAST-MODIFIED:20240821T200424Z
UID:4996-1729342800-1729357200@maranathacamp.org
SUMMARY:Family Fun Day 10/19
DESCRIPTION:You are Invited\nHead out to Maranatha for a late-summer family-fun afternoon. Please park in the main parking lot. A wagon-shuttle will be provided as an alternative to walking to the activity area. \n			\n			\n				\n				\n				\n				\n			\n				\n				\n				\n				\n				\n				\n				\n				\n				\n				\n				Activities\nArchery\, Disc Golf\, Fishing (catch-and-release)\, Putt Putt Golf\, Sand Volleyball\, Zipline are included in the admission price of $8.00. Children 4 and under are free. \nNo meals served\, but a snack cart will be available (priced per-item).
URL:https://maranathacamp.org/events/family-fun-day-2024-10-19/
LOCATION:Maranatha Bible Camp\, 16800 E Maranatha Rd\, Maxwell\, NE\, 69151\, United States
CATEGORIES:Community Events,Kids & Families
ATTACH;FMTTYPE=image/png:https://maranathacamp.org/wp-content/uploads/2024/08/family-fun-days-boy-disc-throw-inv.png
END:VEVENT
END:VCALENDAR