BEGIN:VCALENDAR
VERSION:2.0
PRODID:-//Maranatha Camp - ECPv6.15.20//NONSGML v1.0//EN
CALSCALE:GREGORIAN
METHOD:PUBLISH
X-ORIGINAL-URL:https://maranathacamp.org
X-WR-CALDESC:Events for Maranatha Camp
REFRESH-INTERVAL;VALUE=DURATION:PT1H
X-Robots-Tag:noindex
X-PUBLISHED-TTL:PT1H
BEGIN:VTIMEZONE
TZID:America/Chicago
BEGIN:DAYLIGHT
TZOFFSETFROM:-0600
TZOFFSETTO:-0500
TZNAME:CDT
DTSTART:20240310T080000
END:DAYLIGHT
BEGIN:STANDARD
TZOFFSETFROM:-0500
TZOFFSETTO:-0600
TZNAME:CST
DTSTART:20241103T070000
END:STANDARD
BEGIN:DAYLIGHT
TZOFFSETFROM:-0600
TZOFFSETTO:-0500
TZNAME:CDT
DTSTART:20250309T080000
END:DAYLIGHT
BEGIN:STANDARD
TZOFFSETFROM:-0500
TZOFFSETTO:-0600
TZNAME:CST
DTSTART:20251102T070000
END:STANDARD
BEGIN:DAYLIGHT
TZOFFSETFROM:-0600
TZOFFSETTO:-0500
TZNAME:CDT
DTSTART:20260308T080000
END:DAYLIGHT
BEGIN:STANDARD
TZOFFSETFROM:-0500
TZOFFSETTO:-0600
TZNAME:CST
DTSTART:20261101T070000
END:STANDARD
END:VTIMEZONE
BEGIN:VEVENT
DTSTART;TZID=America/Chicago:20250704T140000
DTEND;TZID=America/Chicago:20250704T220000
DTSTAMP:20260422T063311
CREATED:20250627T201057Z
LAST-MODIFIED:20250703T213102Z
UID:5796-1751637600-1751666400@maranathacamp.org
SUMMARY:4th Of July Celebration
DESCRIPTION:Celebrate With Us!Join us on July 4th for a full day of family fun at the lake — zipline thrills\, canoeing\, kayaking\, waterfront toys\, and activities for all ages. Enjoy a delicious cookout by the water\, stop by our Sweet Shop for snacks and drinks\, and end the night with a spectacular fireworks show — plus so much more! \nPersonal fireworks and alcoholic beverages are NOT permitted.  \n  \n			\n			\n				\n				\n				\n				\n				\n				\n				\n				\n				\n				PriceRegister at the gate from 1-6pm!$15/person $10/kids 4-12 3 and under FREE \n(Pay at entry–supper included) \nSweet Shop items not included in entry fee \n			\n			\n				\n				\n				\n				\n				\n				\n				\n				\n				\n				Schedule \n\n1-6pm – Entry/Registration open\n1-6pm – Waterfront\, pool\, bounce houses\, yard games\, mini-golf\, disc-golf\, Sweet Shop\, canoes/kayaks/paddle boards\, Craft Shop\n6pm – Waterfront Supper\, Activities closed for 1 hour\n7-9:30pm – Waterfront\, pool\, bounce houses\, yard games\, mini-golf\, disc-golf\, Sweet Shop\n9:45pm – Firework show over lake Maranatha\n\n			\n			\n				\n				\n				\n				\n			\n				\n				\n			\n				\n				\n				\n				\n				\n				\n				\n				\n				\n				\n				\n				\n				\n				\n				\n				\n				\n				Activity Weather Policies \nIf we experience inclement weather\, these are the conditions that may affect activities: \nRainRain does not interfere with your adventure as long as we have visibility and it’s not too cold out. If we have a day-long downpour and it gets cold\, activities may temporarily close. \nHailAll outdoor activities are canceled during a hailstorm. Activities can resume once hail is confirmed to have passed. \nLightning Within 10 MilesWhen lightning is detected within 10 miles\, the following closures are enacted until 30 minutes after the latest strike: zipline\, waterfront/lake\, pool\, disc golf\, yard games. \nHigh Winds \nSustained/gusts of 30+ mph: Zipline closes. Water toys\, blob\, and disc golf subject to closure based on MBC Staff recommendations.
URL:https://maranathacamp.org/events/4th-of-july-celebration/
LOCATION:Maranatha Bible Camp\, 16800 E Maranatha Rd\, Maxwell\, NE\, 69151\, United States
CATEGORIES:Community Events
ATTACH;FMTTYPE=image/jpeg:https://maranathacamp.org/wp-content/uploads/2025/06/camp-m-4195-scaled-e1751055363110.jpg
END:VEVENT
END:VCALENDAR